BEGIN:VCALENDAR
VERSION:2.0
PRODID:-//My Park Central - ECPv6.15.20//NONSGML v1.0//EN
CALSCALE:GREGORIAN
METHOD:PUBLISH
X-WR-CALNAME:My Park Central
X-ORIGINAL-URL:https://myparkcentral.org
X-WR-CALDESC:Events for My Park Central
REFRESH-INTERVAL;VALUE=DURATION:PT1H
X-Robots-Tag:noindex
X-PUBLISHED-TTL:PT1H
BEGIN:VTIMEZONE
TZID:America/Chicago
BEGIN:DAYLIGHT
TZOFFSETFROM:-0600
TZOFFSETTO:-0500
TZNAME:CDT
DTSTART:20190310T080000
END:DAYLIGHT
BEGIN:STANDARD
TZOFFSETFROM:-0500
TZOFFSETTO:-0600
TZNAME:CST
DTSTART:20191103T070000
END:STANDARD
BEGIN:DAYLIGHT
TZOFFSETFROM:-0600
TZOFFSETTO:-0500
TZNAME:CDT
DTSTART:20200308T080000
END:DAYLIGHT
BEGIN:STANDARD
TZOFFSETFROM:-0500
TZOFFSETTO:-0600
TZNAME:CST
DTSTART:20201101T070000
END:STANDARD
BEGIN:DAYLIGHT
TZOFFSETFROM:-0600
TZOFFSETTO:-0500
TZNAME:CDT
DTSTART:20210314T080000
END:DAYLIGHT
BEGIN:STANDARD
TZOFFSETFROM:-0500
TZOFFSETTO:-0600
TZNAME:CST
DTSTART:20211107T070000
END:STANDARD
END:VTIMEZONE
BEGIN:VEVENT
DTSTART;TZID=America/Chicago:20200722T160000
DTEND;TZID=America/Chicago:20200722T170000
DTSTAMP:20260422T082640
CREATED:20200622T210623Z
LAST-MODIFIED:20200701T211913Z
UID:38900-1595433600-1595437200@myparkcentral.org
SUMMARY:Bible Study
DESCRIPTION:
URL:https://myparkcentral.org/event/bible-study-475/
LOCATION:PPT Private Dining
CATEGORIES:The Park Place Towers Activities
END:VEVENT
BEGIN:VEVENT
DTSTART;TZID=America/Chicago:20200722T084500
DTEND;TZID=America/Chicago:20200722T091500
DTSTAMP:20260422T082640
CREATED:20200622T210622Z
LAST-MODIFIED:20200701T211912Z
UID:38897-1595407500-1595409300@myparkcentral.org
SUMMARY:Seniorcise
DESCRIPTION:
URL:https://myparkcentral.org/event/seniorcise-297/
LOCATION:PPT Private Dining
CATEGORIES:The Park Place Towers Activities
END:VEVENT
BEGIN:VEVENT
DTSTART;TZID=America/Chicago:20200721T084500
DTEND;TZID=America/Chicago:20200721T091500
DTSTAMP:20260422T082640
CREATED:20200621T210430Z
LAST-MODIFIED:20200701T211909Z
UID:38802-1595321100-1595322900@myparkcentral.org
SUMMARY:Seniorcise
DESCRIPTION:
URL:https://myparkcentral.org/event/seniorcise-296/
LOCATION:PPT Private Dining
CATEGORIES:The Park Place Towers Activities
END:VEVENT
BEGIN:VEVENT
DTSTART;TZID=America/Chicago:20200720T084500
DTEND;TZID=America/Chicago:20200720T091500
DTSTAMP:20260422T082640
CREATED:20200620T210434Z
LAST-MODIFIED:20200701T211855Z
UID:38734-1595234700-1595236500@myparkcentral.org
SUMMARY:Seniorcise
DESCRIPTION:
URL:https://myparkcentral.org/event/seniorcise-295/
LOCATION:PPT Private Dining
CATEGORIES:The Park Place Towers Activities
END:VEVENT
BEGIN:VEVENT
DTSTART;TZID=America/Chicago:20200719T160000
DTEND;TZID=America/Chicago:20200719T170000
DTSTAMP:20260422T082640
CREATED:20200619T210436Z
LAST-MODIFIED:20200701T211854Z
UID:38664-1595174400-1595178000@myparkcentral.org
SUMMARY:Vespers
DESCRIPTION:
URL:https://myparkcentral.org/event/vespers-96/
LOCATION:PPT Private Dining
CATEGORIES:The Park Place Towers Activities
END:VEVENT
BEGIN:VEVENT
DTSTART;TZID=America/Chicago:20200718T183000
DTEND;TZID=America/Chicago:20200718T200000
DTSTAMP:20260422T082641
CREATED:20200618T210444Z
LAST-MODIFIED:20200701T211854Z
UID:38592-1595097000-1595102400@myparkcentral.org
SUMMARY:Saturday Night Movie
DESCRIPTION:
URL:https://myparkcentral.org/event/saturday-night-movie-29/
LOCATION:PPT Private Dining
CATEGORIES:The Park Place Towers Activities
END:VEVENT
BEGIN:VEVENT
DTSTART;TZID=America/Chicago:20200717T084500
DTEND;TZID=America/Chicago:20200717T091500
DTSTAMP:20260422T082641
CREATED:20200617T210426Z
LAST-MODIFIED:20200701T211844Z
UID:38518-1594975500-1594977300@myparkcentral.org
SUMMARY:Seniorcise
DESCRIPTION:
URL:https://myparkcentral.org/event/seniorcise-294/
LOCATION:PPT Private Dining
CATEGORIES:The Park Place Towers Activities
END:VEVENT
BEGIN:VEVENT
DTSTART;TZID=America/Chicago:20200716T084500
DTEND;TZID=America/Chicago:20200716T091500
DTSTAMP:20260422T082641
CREATED:20200616T210517Z
LAST-MODIFIED:20200701T211844Z
UID:38445-1594889100-1594890900@myparkcentral.org
SUMMARY:Seniorcise
DESCRIPTION:
URL:https://myparkcentral.org/event/seniorcise-293/
LOCATION:PPT Private Dining
CATEGORIES:The Park Place Towers Activities
END:VEVENT
BEGIN:VEVENT
DTSTART;TZID=America/Chicago:20200715T160000
DTEND;TZID=America/Chicago:20200715T170000
DTSTAMP:20260422T082641
CREATED:20200615T210514Z
LAST-MODIFIED:20200701T211843Z
UID:38361-1594828800-1594832400@myparkcentral.org
SUMMARY:Bible Study
DESCRIPTION:
URL:https://myparkcentral.org/event/bible-study-467/
LOCATION:PPT Private Dining
CATEGORIES:The Park Place Towers Activities
END:VEVENT
BEGIN:VEVENT
DTSTART;TZID=America/Chicago:20200715T084500
DTEND;TZID=America/Chicago:20200715T091500
DTSTAMP:20260422T082641
CREATED:20200615T210444Z
LAST-MODIFIED:20200701T211828Z
UID:38358-1594802700-1594804500@myparkcentral.org
SUMMARY:Seniorcise
DESCRIPTION:
URL:https://myparkcentral.org/event/seniorcise-292/
LOCATION:PPT Private Dining
CATEGORIES:The Park Place Towers Activities
END:VEVENT
BEGIN:VEVENT
DTSTART;TZID=America/Chicago:20200714T084500
DTEND;TZID=America/Chicago:20200714T091500
DTSTAMP:20260422T082641
CREATED:20200614T210412Z
LAST-MODIFIED:20200701T211825Z
UID:38264-1594716300-1594718100@myparkcentral.org
SUMMARY:Seniorcise
DESCRIPTION:
URL:https://myparkcentral.org/event/seniorcise-291/
LOCATION:PPT Private Dining
CATEGORIES:The Park Place Towers Activities
END:VEVENT
BEGIN:VEVENT
DTSTART;TZID=America/Chicago:20200713T084500
DTEND;TZID=America/Chicago:20200713T091500
DTSTAMP:20260422T082641
CREATED:20200613T210330Z
LAST-MODIFIED:20200701T211825Z
UID:38191-1594629900-1594631700@myparkcentral.org
SUMMARY:Seniorcise
DESCRIPTION:
URL:https://myparkcentral.org/event/seniorcise-290/
LOCATION:PPT Private Dining
CATEGORIES:The Park Place Towers Activities
END:VEVENT
BEGIN:VEVENT
DTSTART;TZID=America/Chicago:20200712T160000
DTEND;TZID=America/Chicago:20200712T170000
DTSTAMP:20260422T082641
CREATED:20200612T204930Z
LAST-MODIFIED:20200701T211819Z
UID:38115-1594569600-1594573200@myparkcentral.org
SUMMARY:Vespers
DESCRIPTION:
URL:https://myparkcentral.org/event/vespers-94/
LOCATION:PPT Private Dining
CATEGORIES:The Park Place Towers Activities
END:VEVENT
BEGIN:VEVENT
DTSTART;TZID=America/Chicago:20200711T183000
DTEND;TZID=America/Chicago:20200711T200000
DTSTAMP:20260422T082641
CREATED:20200611T205014Z
LAST-MODIFIED:20200701T211818Z
UID:38045-1594492200-1594497600@myparkcentral.org
SUMMARY:Saturday Night Movie
DESCRIPTION:
URL:https://myparkcentral.org/event/saturday-night-movie-28/
LOCATION:PPT Private Dining
CATEGORIES:The Park Place Towers Activities
END:VEVENT
BEGIN:VEVENT
DTSTART;TZID=America/Chicago:20200710T084500
DTEND;TZID=America/Chicago:20200710T091500
DTSTAMP:20260422T082641
CREATED:20200610T205021Z
LAST-MODIFIED:20200701T211817Z
UID:37985-1594370700-1594372500@myparkcentral.org
SUMMARY:Seniorcise
DESCRIPTION:
URL:https://myparkcentral.org/event/seniorcise-289/
LOCATION:PPT Private Dining
CATEGORIES:The Park Place Towers Activities
END:VEVENT
BEGIN:VEVENT
DTSTART;TZID=America/Chicago:20200709T084500
DTEND;TZID=America/Chicago:20200709T091500
DTSTAMP:20260422T082641
CREATED:20200609T204931Z
LAST-MODIFIED:20200701T211815Z
UID:37909-1594284300-1594286100@myparkcentral.org
SUMMARY:Seniorcise
DESCRIPTION:
URL:https://myparkcentral.org/event/seniorcise-288/
LOCATION:PPT Private Dining
CATEGORIES:The Park Place Towers Activities
END:VEVENT
BEGIN:VEVENT
DTSTART;TZID=America/Chicago:20200708T160000
DTEND;TZID=America/Chicago:20200708T170000
DTSTAMP:20260422T082641
CREATED:20200608T205013Z
LAST-MODIFIED:20200701T211815Z
UID:37813-1594224000-1594227600@myparkcentral.org
SUMMARY:Bible Study
DESCRIPTION:
URL:https://myparkcentral.org/event/bible-study-458/
LOCATION:PPT Private Dining
CATEGORIES:The Park Place Towers Activities
END:VEVENT
BEGIN:VEVENT
DTSTART;TZID=America/Chicago:20200708T084500
DTEND;TZID=America/Chicago:20200708T091500
DTSTAMP:20260422T082641
CREATED:20200608T205012Z
LAST-MODIFIED:20200701T211812Z
UID:37809-1594197900-1594199700@myparkcentral.org
SUMMARY:Seniorcise
DESCRIPTION:
URL:https://myparkcentral.org/event/seniorcise-287/
LOCATION:PPT Private Dining
CATEGORIES:The Park Place Towers Activities
END:VEVENT
BEGIN:VEVENT
DTSTART;TZID=America/Chicago:20200707T084500
DTEND;TZID=America/Chicago:20200707T091500
DTSTAMP:20260422T082641
CREATED:20200607T203510Z
LAST-MODIFIED:20200701T211811Z
UID:37734-1594111500-1594113300@myparkcentral.org
SUMMARY:Seniorcise
DESCRIPTION:
URL:https://myparkcentral.org/event/seniorcise-286/
LOCATION:PPT Private Dining
CATEGORIES:The Park Place Towers Activities
END:VEVENT
BEGIN:VEVENT
DTSTART;TZID=America/Chicago:20200706T084500
DTEND;TZID=America/Chicago:20200706T091500
DTSTAMP:20260422T082641
CREATED:20200606T203414Z
LAST-MODIFIED:20200705T212547Z
UID:37670-1594025100-1594026900@myparkcentral.org
SUMMARY:Seniorcise
DESCRIPTION:
URL:https://myparkcentral.org/event/seniorcise-285/
LOCATION:PPT Private Dining
CATEGORIES:The Park Place Towers Activities
END:VEVENT
BEGIN:VEVENT
DTSTART;TZID=America/Chicago:20200705T160000
DTEND;TZID=America/Chicago:20200705T170000
DTSTAMP:20260422T082641
CREATED:20200605T203516Z
LAST-MODIFIED:20200701T211809Z
UID:37613-1593964800-1593968400@myparkcentral.org
SUMMARY:Vespers
DESCRIPTION:
URL:https://myparkcentral.org/event/vespers-91/
LOCATION:PPT Private Dining
CATEGORIES:The Park Place Towers Activities
END:VEVENT
BEGIN:VEVENT
DTSTART;TZID=America/Chicago:20200704T183000
DTEND;TZID=America/Chicago:20200704T200000
DTSTAMP:20260422T082641
CREATED:20200604T202013Z
LAST-MODIFIED:20200701T211738Z
UID:37554-1593887400-1593892800@myparkcentral.org
SUMMARY:Saturday Night Movie
DESCRIPTION:
URL:https://myparkcentral.org/event/saturday-night-movie-27/
LOCATION:PPT Private Dining
CATEGORIES:The Park Place Towers Activities
END:VEVENT
BEGIN:VEVENT
DTSTART;TZID=America/Chicago:20200703T084500
DTEND;TZID=America/Chicago:20200703T091500
DTSTAMP:20260422T082641
CREATED:20200603T200421Z
LAST-MODIFIED:20200702T211006Z
UID:37469-1593765900-1593767700@myparkcentral.org
SUMMARY:Seniorcise
DESCRIPTION:
URL:https://myparkcentral.org/event/seniorcise-284/
LOCATION:PPT Private Dining
CATEGORIES:The Park Place Towers Activities
END:VEVENT
BEGIN:VEVENT
DTSTART;TZID=America/Chicago:20200702T084500
DTEND;TZID=America/Chicago:20200702T091500
DTSTAMP:20260422T082641
CREATED:20200602T200518Z
LAST-MODIFIED:20200701T211103Z
UID:37375-1593679500-1593681300@myparkcentral.org
SUMMARY:Seniorcise
DESCRIPTION:
URL:https://myparkcentral.org/event/seniorcise-283/
LOCATION:PPT Private Dining
CATEGORIES:The Park Place Towers Activities
END:VEVENT
BEGIN:VEVENT
DTSTART;TZID=America/Chicago:20200701T160000
DTEND;TZID=America/Chicago:20200701T170000
DTSTAMP:20260422T082641
CREATED:20200601T200441Z
LAST-MODIFIED:20200701T211103Z
UID:37307-1593619200-1593622800@myparkcentral.org
SUMMARY:Bible Study
DESCRIPTION:
URL:https://myparkcentral.org/event/bible-study-449/
LOCATION:PPT Private Dining
CATEGORIES:The Park Place Towers Activities
END:VEVENT
BEGIN:VEVENT
DTSTART;TZID=America/Chicago:20200701T084500
DTEND;TZID=America/Chicago:20200701T091500
DTSTAMP:20260422T082641
CREATED:20200601T200439Z
LAST-MODIFIED:20200630T211043Z
UID:37303-1593593100-1593594900@myparkcentral.org
SUMMARY:Seniorcise
DESCRIPTION:
URL:https://myparkcentral.org/event/seniorcise-282/
LOCATION:PPT Private Dining
CATEGORIES:The Park Place Towers Activities
END:VEVENT
BEGIN:VEVENT
DTSTART;TZID=America/Chicago:20200630T084500
DTEND;TZID=America/Chicago:20200630T091500
DTSTAMP:20260422T082641
CREATED:20200531T195111Z
LAST-MODIFIED:20200629T211016Z
UID:37235-1593506700-1593508500@myparkcentral.org
SUMMARY:Seniorcise
DESCRIPTION:
URL:https://myparkcentral.org/event/seniorcise-281/
LOCATION:PPT Private Dining
CATEGORIES:The Park Place Towers Activities
END:VEVENT
BEGIN:VEVENT
DTSTART;TZID=America/Chicago:20200629T084500
DTEND;TZID=America/Chicago:20200629T091500
DTSTAMP:20260422T082641
CREATED:20200530T195015Z
LAST-MODIFIED:20200628T211012Z
UID:37175-1593420300-1593422100@myparkcentral.org
SUMMARY:Seniorcise
DESCRIPTION:
URL:https://myparkcentral.org/event/seniorcise-280/
LOCATION:PPT Private Dining
CATEGORIES:The Park Place Towers Activities
END:VEVENT
BEGIN:VEVENT
DTSTART;TZID=America/Chicago:20200628T160000
DTEND;TZID=America/Chicago:20200628T170000
DTSTAMP:20260422T082641
CREATED:20200529T195032Z
LAST-MODIFIED:20200628T211011Z
UID:37122-1593360000-1593363600@myparkcentral.org
SUMMARY:Vespers
DESCRIPTION:
URL:https://myparkcentral.org/event/vespers-90/
LOCATION:PPT Private Dining
CATEGORIES:The Park Place Towers Activities
END:VEVENT
BEGIN:VEVENT
DTSTART;TZID=America/Chicago:20200627T183000
DTEND;TZID=America/Chicago:20200627T200000
DTSTAMP:20260422T082641
CREATED:20200528T195118Z
LAST-MODIFIED:20200627T211010Z
UID:37065-1593282600-1593288000@myparkcentral.org
SUMMARY:Saturday Night Movie
DESCRIPTION:
URL:https://myparkcentral.org/event/saturday-night-movie-26/
LOCATION:PPT Private Dining
CATEGORIES:The Park Place Towers Activities
END:VEVENT
END:VCALENDAR