BEGIN:VCALENDAR
VERSION:2.0
PRODID:-//My Park Central - ECPv6.15.20//NONSGML v1.0//EN
CALSCALE:GREGORIAN
METHOD:PUBLISH
X-WR-CALNAME:My Park Central
X-ORIGINAL-URL:https://myparkcentral.org
X-WR-CALDESC:Events for My Park Central
REFRESH-INTERVAL;VALUE=DURATION:PT1H
X-Robots-Tag:noindex
X-PUBLISHED-TTL:PT1H
BEGIN:VTIMEZONE
TZID:America/Chicago
BEGIN:DAYLIGHT
TZOFFSETFROM:-0600
TZOFFSETTO:-0500
TZNAME:CDT
DTSTART:20190310T080000
END:DAYLIGHT
BEGIN:STANDARD
TZOFFSETFROM:-0500
TZOFFSETTO:-0600
TZNAME:CST
DTSTART:20191103T070000
END:STANDARD
BEGIN:DAYLIGHT
TZOFFSETFROM:-0600
TZOFFSETTO:-0500
TZNAME:CDT
DTSTART:20200308T080000
END:DAYLIGHT
BEGIN:STANDARD
TZOFFSETFROM:-0500
TZOFFSETTO:-0600
TZNAME:CST
DTSTART:20201101T070000
END:STANDARD
BEGIN:DAYLIGHT
TZOFFSETFROM:-0600
TZOFFSETTO:-0500
TZNAME:CDT
DTSTART:20210314T080000
END:DAYLIGHT
BEGIN:STANDARD
TZOFFSETFROM:-0500
TZOFFSETTO:-0600
TZNAME:CST
DTSTART:20211107T070000
END:STANDARD
END:VTIMEZONE
BEGIN:VEVENT
DTSTART;TZID=America/Chicago:20200727T181500
DTEND;TZID=America/Chicago:20200727T191500
DTSTAMP:20260424T134556
CREATED:20200627T211937Z
LAST-MODIFIED:20200701T211920Z
UID:39360-1595873700-1595877300@myparkcentral.org
SUMMARY:Bingo
DESCRIPTION:
URL:https://myparkcentral.org/event/bingo-203/
LOCATION:PPT Private Dining\, PPT Parlor
CATEGORIES:The Park Place Towers Activities
END:VEVENT
BEGIN:VEVENT
DTSTART;TZID=America/Chicago:20200720T181500
DTEND;TZID=America/Chicago:20200720T191500
DTSTAMP:20260424T134556
CREATED:20200620T210435Z
LAST-MODIFIED:20200701T211909Z
UID:38737-1595268900-1595272500@myparkcentral.org
SUMMARY:Bingo
DESCRIPTION:
URL:https://myparkcentral.org/event/bingo-202/
LOCATION:PPT Private Dining\, PPT Parlor
CATEGORIES:The Park Place Towers Activities
END:VEVENT
BEGIN:VEVENT
DTSTART;TZID=America/Chicago:20200713T181500
DTEND;TZID=America/Chicago:20200713T191500
DTSTAMP:20260424T134556
CREATED:20200613T210332Z
LAST-MODIFIED:20200701T211825Z
UID:38193-1594664100-1594667700@myparkcentral.org
SUMMARY:Bingo
DESCRIPTION:
URL:https://myparkcentral.org/event/bingo-201/
LOCATION:PPT Private Dining\, PPT Parlor
CATEGORIES:The Park Place Towers Activities
END:VEVENT
BEGIN:VEVENT
DTSTART;TZID=America/Chicago:20200706T181500
DTEND;TZID=America/Chicago:20200706T191500
DTSTAMP:20260424T134556
CREATED:20200606T203414Z
LAST-MODIFIED:20200701T211811Z
UID:37672-1594059300-1594062900@myparkcentral.org
SUMMARY:Bingo
DESCRIPTION:
URL:https://myparkcentral.org/event/bingo-200/
LOCATION:PPT Private Dining\, PPT Parlor
CATEGORIES:The Park Place Towers Activities
END:VEVENT
BEGIN:VEVENT
DTSTART;TZID=America/Chicago:20200629T181500
DTEND;TZID=America/Chicago:20200629T191500
DTSTAMP:20260424T134556
CREATED:20200530T195015Z
LAST-MODIFIED:20200629T211015Z
UID:37177-1593454500-1593458100@myparkcentral.org
SUMMARY:Bingo
DESCRIPTION:
URL:https://myparkcentral.org/event/bingo-199/
LOCATION:PPT Private Dining\, PPT Parlor
CATEGORIES:The Park Place Towers Activities
END:VEVENT
BEGIN:VEVENT
DTSTART;TZID=America/Chicago:20200622T181500
DTEND;TZID=America/Chicago:20200622T191500
DTSTAMP:20260424T134556
CREATED:20200523T193540Z
LAST-MODIFIED:20200622T205519Z
UID:36691-1592849700-1592853300@myparkcentral.org
SUMMARY:Bingo
DESCRIPTION:
URL:https://myparkcentral.org/event/bingo-198/
LOCATION:PPT Private Dining\, PPT Parlor
CATEGORIES:The Park Place Towers Activities
END:VEVENT
BEGIN:VEVENT
DTSTART;TZID=America/Chicago:20200615T181500
DTEND;TZID=America/Chicago:20200615T191500
DTSTAMP:20260424T134556
CREATED:20200516T190439Z
LAST-MODIFIED:20200615T205513Z
UID:36142-1592244900-1592248500@myparkcentral.org
SUMMARY:Bingo
DESCRIPTION:
URL:https://myparkcentral.org/event/bingo-197/
LOCATION:PPT Private Dining\, PPT Parlor
CATEGORIES:The Park Place Towers Activities
END:VEVENT
BEGIN:VEVENT
DTSTART;TZID=America/Chicago:20200608T181500
DTEND;TZID=America/Chicago:20200608T191500
DTSTAMP:20260424T134556
CREATED:20200509T184942Z
LAST-MODIFIED:20200608T204031Z
UID:35613-1591640100-1591643700@myparkcentral.org
SUMMARY:Bingo
DESCRIPTION:
URL:https://myparkcentral.org/event/bingo-196/
LOCATION:PPT Private Dining\, PPT Parlor
CATEGORIES:The Park Place Towers Activities
END:VEVENT
BEGIN:VEVENT
DTSTART;TZID=America/Chicago:20200601T181500
DTEND;TZID=America/Chicago:20200601T191500
DTSTAMP:20260424T134556
CREATED:20200502T185024Z
LAST-MODIFIED:20200601T195550Z
UID:34999-1591035300-1591038900@myparkcentral.org
SUMMARY:Bingo
DESCRIPTION:
URL:https://myparkcentral.org/event/bingo-194/
LOCATION:PPT Private Dining\, PPT Parlor
CATEGORIES:The Park Place Towers Activities
END:VEVENT
BEGIN:VEVENT
DTSTART;TZID=America/Chicago:20200525T181500
DTEND;TZID=America/Chicago:20200525T191500
DTSTAMP:20260424T134556
CREATED:20200425T185120Z
LAST-MODIFIED:20200525T194028Z
UID:34469-1590430500-1590434100@myparkcentral.org
SUMMARY:Bingo
DESCRIPTION:
URL:https://myparkcentral.org/event/bingo-193/
LOCATION:PPT Private Dining\, PPT Parlor
CATEGORIES:The Park Place Towers Activities
END:VEVENT
BEGIN:VEVENT
DTSTART;TZID=America/Chicago:20200518T181500
DTEND;TZID=America/Chicago:20200518T191500
DTSTAMP:20260424T134556
CREATED:20200418T185114Z
LAST-MODIFIED:20200518T191021Z
UID:33937-1589825700-1589829300@myparkcentral.org
SUMMARY:Bingo
DESCRIPTION:
URL:https://myparkcentral.org/event/bingo-192/
LOCATION:PPT Private Dining\, PPT Parlor
CATEGORIES:The Park Place Towers Activities
END:VEVENT
BEGIN:VEVENT
DTSTART;TZID=America/Chicago:20200511T181500
DTEND;TZID=America/Chicago:20200511T191500
DTSTAMP:20260424T134556
CREATED:20200411T185215Z
LAST-MODIFIED:20200511T184038Z
UID:33387-1589220900-1589224500@myparkcentral.org
SUMMARY:Bingo
DESCRIPTION:
URL:https://myparkcentral.org/event/bingo-191/
LOCATION:PPT Private Dining\, PPT Parlor
CATEGORIES:The Park Place Towers Activities
END:VEVENT
BEGIN:VEVENT
DTSTART;TZID=America/Chicago:20200504T181500
DTEND;TZID=America/Chicago:20200504T191500
DTSTAMP:20260424T134556
CREATED:20200404T182035Z
LAST-MODIFIED:20200504T184031Z
UID:32849-1588616100-1588619700@myparkcentral.org
SUMMARY:Bingo
DESCRIPTION:
URL:https://myparkcentral.org/event/bingo-190/
LOCATION:PPT Private Dining\, PPT Parlor
CATEGORIES:The Park Place Towers Activities
END:VEVENT
BEGIN:VEVENT
DTSTART;TZID=America/Chicago:20200427T181500
DTEND;TZID=America/Chicago:20200427T191500
DTSTAMP:20260424T134556
CREATED:20200328T175029Z
LAST-MODIFIED:20200427T184038Z
UID:32201-1588011300-1588014900@myparkcentral.org
SUMMARY:Bingo
DESCRIPTION:
URL:https://myparkcentral.org/event/bingo-188/
LOCATION:PPT Private Dining\, PPT Parlor
CATEGORIES:The Park Place Towers Activities
END:VEVENT
BEGIN:VEVENT
DTSTART;TZID=America/Chicago:20200420T181500
DTEND;TZID=America/Chicago:20200420T191500
DTSTAMP:20260424T134556
CREATED:20200321T175125Z
LAST-MODIFIED:20200420T184004Z
UID:31652-1587406500-1587410100@myparkcentral.org
SUMMARY:Bingo
DESCRIPTION:
URL:https://myparkcentral.org/event/bingo-187/
LOCATION:PPT Private Dining\, PPT Parlor
CATEGORIES:The Park Place Towers Activities
END:VEVENT
BEGIN:VEVENT
DTSTART;TZID=America/Chicago:20200413T181500
DTEND;TZID=America/Chicago:20200413T191500
DTSTAMP:20260424T134556
CREATED:20200314T173535Z
LAST-MODIFIED:20200413T184039Z
UID:31013-1586801700-1586805300@myparkcentral.org
SUMMARY:Bingo
DESCRIPTION:
URL:https://myparkcentral.org/event/bingo-186/
LOCATION:PPT Private Dining\, PPT Parlor
CATEGORIES:The Park Place Towers Activities
END:VEVENT
BEGIN:VEVENT
DTSTART;TZID=America/Chicago:20200406T181500
DTEND;TZID=America/Chicago:20200406T191500
DTSTAMP:20260424T134556
CREATED:20200307T173525Z
LAST-MODIFIED:20200406T184012Z
UID:30467-1586196900-1586200500@myparkcentral.org
SUMMARY:Bingo
DESCRIPTION:
URL:https://myparkcentral.org/event/bingo-185/
LOCATION:PPT Private Dining\, PPT Parlor
CATEGORIES:The Park Place Towers Activities
END:VEVENT
BEGIN:VEVENT
DTSTART;TZID=America/Chicago:20200330T181500
DTEND;TZID=America/Chicago:20200330T191500
DTSTAMP:20260424T134556
CREATED:20200229T170533Z
LAST-MODIFIED:20200330T174037Z
UID:29906-1585592100-1585595700@myparkcentral.org
SUMMARY:Bingo
DESCRIPTION:
URL:https://myparkcentral.org/event/bingo-184/
LOCATION:PPT Private Dining\, PPT Parlor
CATEGORIES:The Park Place Towers Activities
END:VEVENT
BEGIN:VEVENT
DTSTART;TZID=America/Chicago:20200323T181500
DTEND;TZID=America/Chicago:20200323T191500
DTSTAMP:20260424T134556
CREATED:20200222T163726Z
LAST-MODIFIED:20200323T174008Z
UID:29146-1584987300-1584990900@myparkcentral.org
SUMMARY:Bingo
DESCRIPTION:
URL:https://myparkcentral.org/event/bingo-174/
LOCATION:PPT Private Dining\, PPT Parlor
CATEGORIES:The Park Place Towers Activities
END:VEVENT
BEGIN:VEVENT
DTSTART;TZID=America/Chicago:20200316T181500
DTEND;TZID=America/Chicago:20200316T191500
DTSTAMP:20260424T134556
CREATED:20200215T020713Z
LAST-MODIFIED:20200316T172612Z
UID:28116-1584382500-1584386100@myparkcentral.org
SUMMARY:Bingo
DESCRIPTION:
URL:https://myparkcentral.org/event/bingo-161/
LOCATION:PPT Private Dining\, PPT Parlor
CATEGORIES:The Park Place Towers Activities
END:VEVENT
BEGIN:VEVENT
DTSTART;TZID=America/Chicago:20200309T181500
DTEND;TZID=America/Chicago:20200309T191500
DTSTAMP:20260424T134556
CREATED:20200208T015022Z
LAST-MODIFIED:20200309T172708Z
UID:27444-1583777700-1583781300@myparkcentral.org
SUMMARY:Bingo
DESCRIPTION:
URL:https://myparkcentral.org/event/bingo-158/
LOCATION:PPT Private Dining\, PPT Parlor
CATEGORIES:The Park Place Towers Activities
END:VEVENT
BEGIN:VEVENT
DTSTART;TZID=America/Chicago:20200302T181500
DTEND;TZID=America/Chicago:20200302T191500
DTSTAMP:20260424T134556
CREATED:20200201T015320Z
LAST-MODIFIED:20200302T170224Z
UID:26766-1583172900-1583176500@myparkcentral.org
SUMMARY:Bingo
DESCRIPTION:
URL:https://myparkcentral.org/event/bingo-155/
LOCATION:PPT Private Dining\, PPT Parlor
CATEGORIES:The Park Place Towers Activities
END:VEVENT
BEGIN:VEVENT
DTSTART;TZID=America/Chicago:20200224T181500
DTEND;TZID=America/Chicago:20200224T191500
DTSTAMP:20260424T134556
CREATED:20200125T014937Z
LAST-MODIFIED:20200224T162519Z
UID:26037-1582568100-1582571700@myparkcentral.org
SUMMARY:Bingo
DESCRIPTION:
URL:https://myparkcentral.org/event/bingo-152/
LOCATION:PPT Private Dining\, PPT Parlor
CATEGORIES:The Park Place Towers Activities
END:VEVENT
BEGIN:VEVENT
DTSTART;TZID=America/Chicago:20200217T181500
DTEND;TZID=America/Chicago:20200217T191500
DTSTAMP:20260424T134556
CREATED:20200118T013523Z
LAST-MODIFIED:20200217T150433Z
UID:25430-1581963300-1581966900@myparkcentral.org
SUMMARY:Bingo
DESCRIPTION:
URL:https://myparkcentral.org/event/bingo-149/
LOCATION:PPT Private Dining\, PPT Parlor
CATEGORIES:The Park Place Towers Activities
END:VEVENT
BEGIN:VEVENT
DTSTART;TZID=America/Chicago:20200210T181500
DTEND;TZID=America/Chicago:20200210T191500
DTSTAMP:20260424T134556
CREATED:20200111T012221Z
LAST-MODIFIED:20200210T015027Z
UID:24862-1581358500-1581362100@myparkcentral.org
SUMMARY:Bingo
DESCRIPTION:
URL:https://myparkcentral.org/event/bingo-146/
LOCATION:PPT Private Dining\, PPT Parlor
CATEGORIES:The Park Place Towers Activities
END:VEVENT
BEGIN:VEVENT
DTSTART;TZID=America/Chicago:20200203T181500
DTEND;TZID=America/Chicago:20200203T191500
DTSTAMP:20260424T134556
CREATED:20200104T010424Z
LAST-MODIFIED:20200203T013509Z
UID:24158-1580753700-1580757300@myparkcentral.org
SUMMARY:Bingo
DESCRIPTION:
URL:https://myparkcentral.org/event/bingo-143/
LOCATION:PPT Private Dining\, PPT Parlor
CATEGORIES:The Park Place Towers Activities
END:VEVENT
BEGIN:VEVENT
DTSTART;TZID=America/Chicago:20200127T181500
DTEND;TZID=America/Chicago:20200127T191500
DTSTAMP:20260424T134556
CREATED:20191228T004847Z
LAST-MODIFIED:20200127T013513Z
UID:23345-1580148900-1580152500@myparkcentral.org
SUMMARY:Bingo
DESCRIPTION:
URL:https://myparkcentral.org/event/bingo-140/
LOCATION:PPT Private Dining\, PPT Parlor
CATEGORIES:The Park Place Towers Activities
END:VEVENT
BEGIN:VEVENT
DTSTART;TZID=America/Chicago:20200120T181500
DTEND;TZID=America/Chicago:20200120T191500
DTSTAMP:20260424T134556
CREATED:20191221T005321Z
LAST-MODIFIED:20200120T012051Z
UID:22567-1579544100-1579547700@myparkcentral.org
SUMMARY:Bingo
DESCRIPTION:
URL:https://myparkcentral.org/event/bingo-137/
LOCATION:PPT Private Dining\, PPT Parlor
CATEGORIES:The Park Place Towers Activities
END:VEVENT
BEGIN:VEVENT
DTSTART;TZID=America/Chicago:20200113T181500
DTEND;TZID=America/Chicago:20200113T191500
DTSTAMP:20260424T134556
CREATED:20191217T005034Z
LAST-MODIFIED:20200113T012226Z
UID:22211-1578939300-1578942900@myparkcentral.org
SUMMARY:Bingo
DESCRIPTION:
URL:https://myparkcentral.org/event/bingo-135/
LOCATION:PPT Private Dining\, PPT Parlor
CATEGORIES:The Park Place Towers Activities
END:VEVENT
BEGIN:VEVENT
DTSTART;TZID=America/Chicago:20200106T153000
DTEND;TZID=America/Chicago:20200106T163000
DTSTAMP:20260424T134556
CREATED:20191217T005026Z
LAST-MODIFIED:20200106T005016Z
UID:22206-1578324600-1578328200@myparkcentral.org
SUMMARY:Wild Bunch
DESCRIPTION:
URL:https://myparkcentral.org/event/wild-bunch-7/
LOCATION:PPT Private Dining\, PPT Parlor
CATEGORIES:The Park Place Towers Activities
END:VEVENT
END:VCALENDAR