BEGIN:VCALENDAR
VERSION:2.0
PRODID:-//My Park Central - ECPv6.15.20//NONSGML v1.0//EN
CALSCALE:GREGORIAN
METHOD:PUBLISH
X-WR-CALNAME:My Park Central
X-ORIGINAL-URL:https://myparkcentral.org
X-WR-CALDESC:Events for My Park Central
REFRESH-INTERVAL;VALUE=DURATION:PT1H
X-Robots-Tag:noindex
X-PUBLISHED-TTL:PT1H
BEGIN:VTIMEZONE
TZID:America/Chicago
BEGIN:DAYLIGHT
TZOFFSETFROM:-0600
TZOFFSETTO:-0500
TZNAME:CDT
DTSTART:20190310T080000
END:DAYLIGHT
BEGIN:STANDARD
TZOFFSETFROM:-0500
TZOFFSETTO:-0600
TZNAME:CST
DTSTART:20191103T070000
END:STANDARD
BEGIN:DAYLIGHT
TZOFFSETFROM:-0600
TZOFFSETTO:-0500
TZNAME:CDT
DTSTART:20200308T080000
END:DAYLIGHT
BEGIN:STANDARD
TZOFFSETFROM:-0500
TZOFFSETTO:-0600
TZNAME:CST
DTSTART:20201101T070000
END:STANDARD
BEGIN:DAYLIGHT
TZOFFSETFROM:-0600
TZOFFSETTO:-0500
TZNAME:CDT
DTSTART:20210314T080000
END:DAYLIGHT
BEGIN:STANDARD
TZOFFSETFROM:-0500
TZOFFSETTO:-0600
TZNAME:CST
DTSTART:20211107T070000
END:STANDARD
END:VTIMEZONE
BEGIN:VEVENT
DTSTART;TZID=America/Chicago:20200814T150000
DTEND;TZID=America/Chicago:20200814T160000
DTSTAMP:20260424T075208
CREATED:20200715T220522Z
LAST-MODIFIED:20200728T223322Z
UID:40868-1597417200-1597420800@myparkcentral.org
SUMMARY:Mexican Train! New Game - taking on new players!
DESCRIPTION:
URL:https://myparkcentral.org/event/mexican-train-new-game-taking-on-new-players-28/
LOCATION:PPT Activity Room
CATEGORIES:The Park Place Towers Activities
END:VEVENT
BEGIN:VEVENT
DTSTART;TZID=America/Chicago:20200731T150000
DTEND;TZID=America/Chicago:20200731T160000
DTSTAMP:20260424T075208
CREATED:20200701T211928Z
LAST-MODIFIED:20200702T212020Z
UID:39696-1596207600-1596211200@myparkcentral.org
SUMMARY:Mexican Train! New Game - taking on new players!
DESCRIPTION:
URL:https://myparkcentral.org/event/mexican-train-new-game-taking-on-new-players-27/
LOCATION:PPT Activity Room
CATEGORIES:The Park Place Towers Activities
END:VEVENT
BEGIN:VEVENT
DTSTART;TZID=America/Chicago:20200729T140000
DTEND;TZID=America/Chicago:20200729T150000
DTSTAMP:20260424T075208
CREATED:20200629T211927Z
LAST-MODIFIED:20200701T211924Z
UID:39528-1596031200-1596034800@myparkcentral.org
SUMMARY:A.C.T. Group - Chair Yoga
DESCRIPTION:
URL:https://myparkcentral.org/event/a-c-t-group-chair-yoga-71/
LOCATION:PPT Activity Room
CATEGORIES:The Park Place Towers Activities
END:VEVENT
BEGIN:VEVENT
DTSTART;TZID=America/Chicago:20200722T140000
DTEND;TZID=America/Chicago:20200722T150000
DTSTAMP:20260424T075208
CREATED:20200622T210622Z
LAST-MODIFIED:20200701T211912Z
UID:38899-1595426400-1595430000@myparkcentral.org
SUMMARY:A.C.T. Group - Chair Yoga
DESCRIPTION:
URL:https://myparkcentral.org/event/a-c-t-group-chair-yoga-70/
LOCATION:PPT Activity Room
CATEGORIES:The Park Place Towers Activities
END:VEVENT
BEGIN:VEVENT
DTSTART;TZID=America/Chicago:20200717T150000
DTEND;TZID=America/Chicago:20200717T160000
DTSTAMP:20260424T075208
CREATED:20200617T210429Z
LAST-MODIFIED:20200702T211919Z
UID:38521-1594998000-1595001600@myparkcentral.org
SUMMARY:Mexican Train! New Game - taking on new players!
DESCRIPTION:
URL:https://myparkcentral.org/event/mexican-train-new-game-taking-on-new-players-26/
LOCATION:PPT Activity Room
CATEGORIES:The Park Place Towers Activities
END:VEVENT
BEGIN:VEVENT
DTSTART;TZID=America/Chicago:20200715T140000
DTEND;TZID=America/Chicago:20200715T150000
DTSTAMP:20260424T075208
CREATED:20200615T210444Z
LAST-MODIFIED:20200701T211829Z
UID:38360-1594821600-1594825200@myparkcentral.org
SUMMARY:A.C.T. Group - Chair Yoga
DESCRIPTION:
URL:https://myparkcentral.org/event/a-c-t-group-chair-yoga-69/
LOCATION:PPT Activity Room
CATEGORIES:The Park Place Towers Activities
END:VEVENT
BEGIN:VEVENT
DTSTART;TZID=America/Chicago:20200708T140000
DTEND;TZID=America/Chicago:20200708T150000
DTSTAMP:20260424T075208
CREATED:20200608T205012Z
LAST-MODIFIED:20200701T211814Z
UID:37811-1594216800-1594220400@myparkcentral.org
SUMMARY:A.C.T. Group - Chair Yoga
DESCRIPTION:
URL:https://myparkcentral.org/event/a-c-t-group-chair-yoga-68/
LOCATION:PPT Activity Room
CATEGORIES:The Park Place Towers Activities
END:VEVENT
BEGIN:VEVENT
DTSTART;TZID=America/Chicago:20200703T150000
DTEND;TZID=America/Chicago:20200703T160000
DTSTAMP:20260424T075208
CREATED:20200603T200422Z
LAST-MODIFIED:20200702T211006Z
UID:37472-1593788400-1593792000@myparkcentral.org
SUMMARY:Mexican Train! New Game - taking on new players!
DESCRIPTION:
URL:https://myparkcentral.org/event/mexican-train-new-game-taking-on-new-players-25/
LOCATION:PPT Activity Room
CATEGORIES:The Park Place Towers Activities
END:VEVENT
BEGIN:VEVENT
DTSTART;TZID=America/Chicago:20200701T140000
DTEND;TZID=America/Chicago:20200701T150000
DTSTAMP:20260424T075208
CREATED:20200601T200440Z
LAST-MODIFIED:20200630T211044Z
UID:37306-1593612000-1593615600@myparkcentral.org
SUMMARY:A.C.T. Group - Chair Yoga
DESCRIPTION:
URL:https://myparkcentral.org/event/a-c-t-group-chair-yoga-67/
LOCATION:PPT Activity Room
CATEGORIES:The Park Place Towers Activities
END:VEVENT
BEGIN:VEVENT
DTSTART;TZID=America/Chicago:20200624T140000
DTEND;TZID=America/Chicago:20200624T150000
DTSTAMP:20260424T075208
CREATED:20200525T195120Z
LAST-MODIFIED:20200623T205512Z
UID:36829-1593007200-1593010800@myparkcentral.org
SUMMARY:A.C.T. Group - Chair Yoga
DESCRIPTION:
URL:https://myparkcentral.org/event/a-c-t-group-chair-yoga-66/
LOCATION:PPT Activity Room
CATEGORIES:The Park Place Towers Activities
END:VEVENT
BEGIN:VEVENT
DTSTART;TZID=America/Chicago:20200619T150000
DTEND;TZID=America/Chicago:20200619T160000
DTSTAMP:20260424T075208
CREATED:20200520T192022Z
LAST-MODIFIED:20200619T205515Z
UID:36456-1592578800-1592582400@myparkcentral.org
SUMMARY:Mexican Train! New Game - taking on new players!
DESCRIPTION:
URL:https://myparkcentral.org/event/mexican-train-new-game-taking-on-new-players-24/
LOCATION:PPT Activity Room
CATEGORIES:The Park Place Towers Activities
END:VEVENT
BEGIN:VEVENT
DTSTART;TZID=America/Chicago:20200617T140000
DTEND;TZID=America/Chicago:20200617T150000
DTSTAMP:20260424T075208
CREATED:20200518T192029Z
LAST-MODIFIED:20200616T205504Z
UID:36305-1592402400-1592406000@myparkcentral.org
SUMMARY:A.C.T. Group - Chair Yoga
DESCRIPTION:
URL:https://myparkcentral.org/event/a-c-t-group-chair-yoga-65/
LOCATION:PPT Activity Room
CATEGORIES:The Park Place Towers Activities
END:VEVENT
BEGIN:VEVENT
DTSTART;TZID=America/Chicago:20200610T140000
DTEND;TZID=America/Chicago:20200610T150000
DTSTAMP:20260424T075208
CREATED:20200511T185021Z
LAST-MODIFIED:20200609T204010Z
UID:35776-1591797600-1591801200@myparkcentral.org
SUMMARY:A.C.T. Group - Chair Yoga
DESCRIPTION:
URL:https://myparkcentral.org/event/a-c-t-group-chair-yoga-64/
LOCATION:PPT Activity Room
CATEGORIES:The Park Place Towers Activities
END:VEVENT
BEGIN:VEVENT
DTSTART;TZID=America/Chicago:20200605T150000
DTEND;TZID=America/Chicago:20200605T160000
DTSTAMP:20260424T075208
CREATED:20200506T185014Z
LAST-MODIFIED:20200605T202527Z
UID:35353-1591369200-1591372800@myparkcentral.org
SUMMARY:Mexican Train! New Game - taking on new players!
DESCRIPTION:
URL:https://myparkcentral.org/event/mexican-train-new-game-taking-on-new-players-23/
LOCATION:PPT Activity Room
CATEGORIES:The Park Place Towers Activities
END:VEVENT
BEGIN:VEVENT
DTSTART;TZID=America/Chicago:20200603T140000
DTEND;TZID=America/Chicago:20200603T150000
DTSTAMP:20260424T075208
CREATED:20200504T184928Z
LAST-MODIFIED:20200603T195531Z
UID:35139-1591192800-1591196400@myparkcentral.org
SUMMARY:A.C.T. Group - Chair Yoga
DESCRIPTION:
URL:https://myparkcentral.org/event/a-c-t-group-chair-yoga-63/
LOCATION:PPT Activity Room
CATEGORIES:The Park Place Towers Activities
END:VEVENT
BEGIN:VEVENT
DTSTART;TZID=America/Chicago:20200527T140000
DTEND;TZID=America/Chicago:20200527T150000
DTSTAMP:20260424T075208
CREATED:20200427T185114Z
LAST-MODIFIED:20200527T194005Z
UID:34622-1590588000-1590591600@myparkcentral.org
SUMMARY:A.C.T. Group - Chair Yoga
DESCRIPTION:
URL:https://myparkcentral.org/event/a-c-t-group-chair-yoga-62/
LOCATION:PPT Activity Room
CATEGORIES:The Park Place Towers Activities
END:VEVENT
BEGIN:VEVENT
DTSTART;TZID=America/Chicago:20200522T150000
DTEND;TZID=America/Chicago:20200522T160000
DTSTAMP:20260424T075208
CREATED:20200422T185045Z
LAST-MODIFIED:20200522T191007Z
UID:34243-1590159600-1590163200@myparkcentral.org
SUMMARY:Mexican Train! New Game - taking on new players!
DESCRIPTION:
URL:https://myparkcentral.org/event/mexican-train-new-game-taking-on-new-players-22/
LOCATION:PPT Activity Room
CATEGORIES:The Park Place Towers Activities
END:VEVENT
BEGIN:VEVENT
DTSTART;TZID=America/Chicago:20200520T140000
DTEND;TZID=America/Chicago:20200520T150000
DTSTAMP:20260424T075208
CREATED:20200420T185041Z
LAST-MODIFIED:20200520T191038Z
UID:34075-1589983200-1589986800@myparkcentral.org
SUMMARY:A.C.T. Group - Chair Yoga
DESCRIPTION:
URL:https://myparkcentral.org/event/a-c-t-group-chair-yoga-61/
LOCATION:PPT Activity Room
CATEGORIES:The Park Place Towers Activities
END:VEVENT
BEGIN:VEVENT
DTSTART;TZID=America/Chicago:20200513T140000
DTEND;TZID=America/Chicago:20200513T150000
DTSTAMP:20260424T075208
CREATED:20200413T185344Z
LAST-MODIFIED:20200513T185545Z
UID:33549-1589378400-1589382000@myparkcentral.org
SUMMARY:A.C.T. Group - Chair Yoga
DESCRIPTION:
URL:https://myparkcentral.org/event/a-c-t-group-chair-yoga-60/
LOCATION:PPT Activity Room
CATEGORIES:The Park Place Towers Activities
END:VEVENT
BEGIN:VEVENT
DTSTART;TZID=America/Chicago:20200508T150000
DTEND;TZID=America/Chicago:20200508T160000
DTSTAMP:20260424T075208
CREATED:20200408T185128Z
LAST-MODIFIED:20200508T184046Z
UID:33169-1588950000-1588953600@myparkcentral.org
SUMMARY:Mexican Train! New Game - taking on new players!
DESCRIPTION:
URL:https://myparkcentral.org/event/mexican-train-new-game-taking-on-new-players-21/
LOCATION:PPT Activity Room
CATEGORIES:The Park Place Towers Activities
END:VEVENT
BEGIN:VEVENT
DTSTART;TZID=America/Chicago:20200506T140000
DTEND;TZID=America/Chicago:20200506T150000
DTSTAMP:20260424T075208
CREATED:20200406T185340Z
LAST-MODIFIED:20200506T184053Z
UID:32993-1588773600-1588777200@myparkcentral.org
SUMMARY:A.C.T. Group - Chair Yoga
DESCRIPTION:
URL:https://myparkcentral.org/event/a-c-t-group-chair-yoga-59/
LOCATION:PPT Activity Room
CATEGORIES:The Park Place Towers Activities
END:VEVENT
BEGIN:VEVENT
DTSTART;TZID=America/Chicago:20200429T140000
DTEND;TZID=America/Chicago:20200429T150000
DTSTAMP:20260424T075208
CREATED:20200330T175031Z
LAST-MODIFIED:20200429T184038Z
UID:32340-1588168800-1588172400@myparkcentral.org
SUMMARY:A.C.T. Group - Chair Yoga
DESCRIPTION:
URL:https://myparkcentral.org/event/a-c-t-group-chair-yoga-58/
LOCATION:PPT Activity Room
CATEGORIES:The Park Place Towers Activities
END:VEVENT
BEGIN:VEVENT
DTSTART;TZID=America/Chicago:20200424T150000
DTEND;TZID=America/Chicago:20200424T160000
DTSTAMP:20260424T075208
CREATED:20200325T175016Z
LAST-MODIFIED:20200424T184031Z
UID:32003-1587740400-1587744000@myparkcentral.org
SUMMARY:Mexican Train! New Game - taking on new players!
DESCRIPTION:
URL:https://myparkcentral.org/event/mexican-train-new-game-taking-on-new-players-20/
LOCATION:PPT Activity Room
CATEGORIES:The Park Place Towers Activities
END:VEVENT
BEGIN:VEVENT
DTSTART;TZID=America/Chicago:20200422T140000
DTEND;TZID=America/Chicago:20200422T150000
DTSTAMP:20260424T075208
CREATED:20200323T175129Z
LAST-MODIFIED:20200422T184016Z
UID:31804-1587564000-1587567600@myparkcentral.org
SUMMARY:A.C.T. Group - Chair Yoga
DESCRIPTION:
URL:https://myparkcentral.org/event/a-c-t-group-chair-yoga-57/
LOCATION:PPT Activity Room
CATEGORIES:The Park Place Towers Activities
END:VEVENT
BEGIN:VEVENT
DTSTART;TZID=America/Chicago:20200415T140000
DTEND;TZID=America/Chicago:20200415T150000
DTSTAMP:20260424T075208
CREATED:20200316T173520Z
LAST-MODIFIED:20200415T184236Z
UID:31192-1586959200-1586962800@myparkcentral.org
SUMMARY:A.C.T. Group - Chair Yoga
DESCRIPTION:
URL:https://myparkcentral.org/event/a-c-t-group-chair-yoga-56/
LOCATION:PPT Activity Room
CATEGORIES:The Park Place Towers Activities
END:VEVENT
BEGIN:VEVENT
DTSTART;TZID=America/Chicago:20200410T150000
DTEND;TZID=America/Chicago:20200410T160000
DTSTAMP:20260424T075208
CREATED:20200311T173448Z
LAST-MODIFIED:20200410T184107Z
UID:30780-1586530800-1586534400@myparkcentral.org
SUMMARY:Mexican Train! New Game - taking on new players!
DESCRIPTION:
URL:https://myparkcentral.org/event/mexican-train-new-game-taking-on-new-players-19/
LOCATION:PPT Activity Room
CATEGORIES:The Park Place Towers Activities
END:VEVENT
BEGIN:VEVENT
DTSTART;TZID=America/Chicago:20200408T140000
DTEND;TZID=America/Chicago:20200408T150000
DTSTAMP:20260424T075208
CREATED:20200309T173743Z
LAST-MODIFIED:20200408T184018Z
UID:30629-1586354400-1586358000@myparkcentral.org
SUMMARY:A.C.T. Group - Chair Yoga
DESCRIPTION:
URL:https://myparkcentral.org/event/a-c-t-group-chair-yoga-55/
LOCATION:PPT Activity Room
CATEGORIES:The Park Place Towers Activities
END:VEVENT
BEGIN:VEVENT
DTSTART;TZID=America/Chicago:20200401T140000
DTEND;TZID=America/Chicago:20200401T150000
DTSTAMP:20260424T075208
CREATED:20200302T170434Z
LAST-MODIFIED:20200401T180255Z
UID:30068-1585749600-1585753200@myparkcentral.org
SUMMARY:A.C.T. Group - Chair Yoga
DESCRIPTION:
URL:https://myparkcentral.org/event/a-c-t-group-chair-yoga-54/
LOCATION:PPT Activity Room
CATEGORIES:The Park Place Towers Activities
END:VEVENT
BEGIN:VEVENT
DTSTART;TZID=America/Chicago:20200327T150000
DTEND;TZID=America/Chicago:20200327T160000
DTSTAMP:20260424T075208
CREATED:20200226T165332Z
LAST-MODIFIED:20200327T174020Z
UID:29526-1585321200-1585324800@myparkcentral.org
SUMMARY:Mexican Train! New Game - taking on new players!
DESCRIPTION:
URL:https://myparkcentral.org/event/mexican-train-new-game-taking-on-new-players-18/
LOCATION:PPT Activity Room
CATEGORIES:The Park Place Towers Activities
END:VEVENT
BEGIN:VEVENT
DTSTART;TZID=America/Chicago:20200325T140000
DTEND;TZID=America/Chicago:20200325T150000
DTSTAMP:20260424T075208
CREATED:20200224T163429Z
LAST-MODIFIED:20200323T174914Z
UID:29310-1585144800-1585148400@myparkcentral.org
SUMMARY:A.C.T. Group - Chair Yoga
DESCRIPTION:
URL:https://myparkcentral.org/event/a-c-t-group-chair-yoga-53/
LOCATION:PPT Activity Room
CATEGORIES:The Park Place Towers Activities
END:VEVENT
END:VCALENDAR