BEGIN:VCALENDAR
VERSION:2.0
PRODID:-//My Park Central - ECPv6.15.20//NONSGML v1.0//EN
CALSCALE:GREGORIAN
METHOD:PUBLISH
X-ORIGINAL-URL:https://myparkcentral.org
X-WR-CALDESC:Events for My Park Central
REFRESH-INTERVAL;VALUE=DURATION:PT1H
X-Robots-Tag:noindex
X-PUBLISHED-TTL:PT1H
BEGIN:VTIMEZONE
TZID:America/Chicago
BEGIN:DAYLIGHT
TZOFFSETFROM:-0600
TZOFFSETTO:-0500
TZNAME:CDT
DTSTART:20240310T080000
END:DAYLIGHT
BEGIN:STANDARD
TZOFFSETFROM:-0500
TZOFFSETTO:-0600
TZNAME:CST
DTSTART:20241103T070000
END:STANDARD
BEGIN:DAYLIGHT
TZOFFSETFROM:-0600
TZOFFSETTO:-0500
TZNAME:CDT
DTSTART:20250309T080000
END:DAYLIGHT
BEGIN:STANDARD
TZOFFSETFROM:-0500
TZOFFSETTO:-0600
TZNAME:CST
DTSTART:20251102T070000
END:STANDARD
BEGIN:DAYLIGHT
TZOFFSETFROM:-0600
TZOFFSETTO:-0500
TZNAME:CDT
DTSTART:20260308T080000
END:DAYLIGHT
BEGIN:STANDARD
TZOFFSETFROM:-0500
TZOFFSETTO:-0600
TZNAME:CST
DTSTART:20261101T070000
END:STANDARD
END:VTIMEZONE
BEGIN:VEVENT
DTSTART;TZID=America/Chicago:20250602T100000
DTEND;TZID=America/Chicago:20250602T110000
DTSTAMP:20260424T050145
CREATED:20250503T211112Z
LAST-MODIFIED:20250601T220841Z
UID:171207-1748858400-1748862000@myparkcentral.org
SUMMARY:Crossword Puzzles
DESCRIPTION:
URL:https://myparkcentral.org/event/crossword-puzzles-66/
LOCATION:Park Place Towers-PPT Activity Room
CATEGORIES:The Park Place Towers Activities
ORGANIZER;CN="vnewkirk@bcsama.org":MAILTO:vnewkirk@bcsama.org
END:VEVENT
BEGIN:VEVENT
DTSTART;TZID=America/Chicago:20250529T100000
DTEND;TZID=America/Chicago:20250529T110000
DTSTAMP:20260424T050145
CREATED:20250429T205632Z
LAST-MODIFIED:20250528T215335Z
UID:170972-1748512800-1748516400@myparkcentral.org
SUMMARY:Words in Words Game
DESCRIPTION:
URL:https://myparkcentral.org/event/words-in-words-game-29/
LOCATION:Park Place Towers-PPT Activity Room
CATEGORIES:The Park Place Towers Activities
END:VEVENT
BEGIN:VEVENT
DTSTART;TZID=America/Chicago:20250526T100000
DTEND;TZID=America/Chicago:20250526T110000
DTSTAMP:20260424T050145
CREATED:20250426T205553Z
LAST-MODIFIED:20250525T213840Z
UID:170774-1748253600-1748257200@myparkcentral.org
SUMMARY:Crossword Puzzles
DESCRIPTION:
URL:https://myparkcentral.org/event/crossword-puzzles-65/
LOCATION:Park Place Towers-PPT Activity Room
CATEGORIES:The Park Place Towers Activities
ORGANIZER;CN="vnewkirk@bcsama.org":MAILTO:vnewkirk@bcsama.org
END:VEVENT
BEGIN:VEVENT
DTSTART;TZID=America/Chicago:20250522T100000
DTEND;TZID=America/Chicago:20250522T110000
DTSTAMP:20260424T050145
CREATED:20250422T205630Z
LAST-MODIFIED:20250521T213838Z
UID:170526-1747908000-1747911600@myparkcentral.org
SUMMARY:Words in Words Game
DESCRIPTION:
URL:https://myparkcentral.org/event/words-in-words-game-28/
LOCATION:Park Place Towers-PPT Activity Room
CATEGORIES:The Park Place Towers Activities
END:VEVENT
BEGIN:VEVENT
DTSTART;TZID=America/Chicago:20250519T100000
DTEND;TZID=America/Chicago:20250519T110000
DTSTAMP:20260424T050145
CREATED:20250419T205618Z
LAST-MODIFIED:20250518T213837Z
UID:170325-1747648800-1747652400@myparkcentral.org
SUMMARY:Crossword Puzzles
DESCRIPTION:
URL:https://myparkcentral.org/event/crossword-puzzles-64/
LOCATION:Park Place Towers-PPT Activity Room
CATEGORIES:The Park Place Towers Activities
ORGANIZER;CN="vnewkirk@bcsama.org":MAILTO:vnewkirk@bcsama.org
END:VEVENT
BEGIN:VEVENT
DTSTART;TZID=America/Chicago:20250515T100000
DTEND;TZID=America/Chicago:20250515T110000
DTSTAMP:20260424T050145
CREATED:20250415T205620Z
LAST-MODIFIED:20250514T212334Z
UID:170058-1747303200-1747306800@myparkcentral.org
SUMMARY:Words in Words Game
DESCRIPTION:
URL:https://myparkcentral.org/event/words-in-words-game-27/
LOCATION:Park Place Towers-PPT Activity Room
CATEGORIES:The Park Place Towers Activities
END:VEVENT
BEGIN:VEVENT
DTSTART;TZID=America/Chicago:20250513T100000
DTEND;TZID=America/Chicago:20250513T110000
DTSTAMP:20260424T050145
CREATED:20250413T205608Z
LAST-MODIFIED:20250512T212559Z
UID:169917-1747130400-1747134000@myparkcentral.org
SUMMARY:Crafts with Laina
DESCRIPTION:
URL:https://myparkcentral.org/event/crafts-with-laina-27/
LOCATION:Park Place Towers-PPT Activity Room
CATEGORIES:The Park Place Towers Activities
END:VEVENT
BEGIN:VEVENT
DTSTART;TZID=America/Chicago:20250512T100000
DTEND;TZID=America/Chicago:20250512T110000
DTSTAMP:20260424T050145
CREATED:20250412T205616Z
LAST-MODIFIED:20250511T212352Z
UID:169845-1747044000-1747047600@myparkcentral.org
SUMMARY:Crossword Puzzles
DESCRIPTION:
URL:https://myparkcentral.org/event/crossword-puzzles-63/
LOCATION:Park Place Towers-PPT Activity Room
CATEGORIES:The Park Place Towers Activities
ORGANIZER;CN="vnewkirk@bcsama.org":MAILTO:vnewkirk@bcsama.org
END:VEVENT
BEGIN:VEVENT
DTSTART;TZID=America/Chicago:20250508T100000
DTEND;TZID=America/Chicago:20250508T110000
DTSTAMP:20260424T050145
CREATED:20250408T204101Z
LAST-MODIFIED:20250507T212336Z
UID:169596-1746698400-1746702000@myparkcentral.org
SUMMARY:Words in Words Game
DESCRIPTION:
URL:https://myparkcentral.org/event/words-in-words-game-26/
LOCATION:Park Place Towers-PPT Activity Room
CATEGORIES:The Park Place Towers Activities
END:VEVENT
BEGIN:VEVENT
DTSTART;TZID=America/Chicago:20250505T100000
DTEND;TZID=America/Chicago:20250505T110000
DTSTAMP:20260424T050145
CREATED:20250405T202557Z
LAST-MODIFIED:20250504T210837Z
UID:169397-1746439200-1746442800@myparkcentral.org
SUMMARY:Crossword Puzzles
DESCRIPTION:
URL:https://myparkcentral.org/event/crossword-puzzles-62/
LOCATION:Park Place Towers-PPT Activity Room
CATEGORIES:The Park Place Towers Activities
ORGANIZER;CN="vnewkirk@bcsama.org":MAILTO:vnewkirk@bcsama.org
END:VEVENT
BEGIN:VEVENT
DTSTART;TZID=America/Chicago:20250501T100000
DTEND;TZID=America/Chicago:20250501T110000
DTSTAMP:20260424T050145
CREATED:20250401T201146Z
LAST-MODIFIED:20250430T210842Z
UID:169156-1746093600-1746097200@myparkcentral.org
SUMMARY:Words in Words Game
DESCRIPTION:
URL:https://myparkcentral.org/event/words-in-words-game-25/
LOCATION:Park Place Towers-PPT Activity Room
CATEGORIES:The Park Place Towers Activities
END:VEVENT
BEGIN:VEVENT
DTSTART;TZID=America/Chicago:20250428T100000
DTEND;TZID=America/Chicago:20250428T110000
DTSTAMP:20260424T050145
CREATED:20250329T195821Z
LAST-MODIFIED:20250427T205338Z
UID:168955-1745834400-1745838000@myparkcentral.org
SUMMARY:Crossword Puzzles
DESCRIPTION:
URL:https://myparkcentral.org/event/crossword-puzzles-61/
LOCATION:Park Place Towers-PPT Activity Room
CATEGORIES:The Park Place Towers Activities
ORGANIZER;CN="vnewkirk@bcsama.org":MAILTO:vnewkirk@bcsama.org
END:VEVENT
BEGIN:VEVENT
DTSTART;TZID=America/Chicago:20250424T100000
DTEND;TZID=America/Chicago:20250424T110000
DTSTAMP:20260424T050145
CREATED:20250325T195659Z
LAST-MODIFIED:20250423T205334Z
UID:168720-1745488800-1745492400@myparkcentral.org
SUMMARY:Words in Words Game
DESCRIPTION:
URL:https://myparkcentral.org/event/words-in-words-game-24/
LOCATION:Park Place Towers-PPT Activity Room
CATEGORIES:The Park Place Towers Activities
END:VEVENT
BEGIN:VEVENT
DTSTART;TZID=America/Chicago:20250421T100000
DTEND;TZID=America/Chicago:20250421T110000
DTSTAMP:20260424T050145
CREATED:20250322T194106Z
LAST-MODIFIED:20250420T205434Z
UID:168517-1745229600-1745233200@myparkcentral.org
SUMMARY:Crossword Puzzles
DESCRIPTION:
URL:https://myparkcentral.org/event/crossword-puzzles-60/
LOCATION:Park Place Towers-PPT Activity Room
CATEGORIES:The Park Place Towers Activities
ORGANIZER;CN="vnewkirk@bcsama.org":MAILTO:vnewkirk@bcsama.org
END:VEVENT
BEGIN:VEVENT
DTSTART;TZID=America/Chicago:20250417T100000
DTEND;TZID=America/Chicago:20250417T110000
DTSTAMP:20260424T050145
CREATED:20250318T192723Z
LAST-MODIFIED:20250416T205343Z
UID:168260-1744884000-1744887600@myparkcentral.org
SUMMARY:Words in Words Game
DESCRIPTION:
URL:https://myparkcentral.org/event/words-in-words-game-23/
LOCATION:Park Place Towers-PPT Activity Room
CATEGORIES:The Park Place Towers Activities
END:VEVENT
BEGIN:VEVENT
DTSTART;TZID=America/Chicago:20250416T130000
DTEND;TZID=America/Chicago:20250416T133000
DTSTAMP:20260424T050145
CREATED:20250317T195458Z
LAST-MODIFIED:20250328T195546Z
UID:168203-1744808400-1744810200@myparkcentral.org
SUMMARY:Need to Know
DESCRIPTION:
URL:https://myparkcentral.org/event/need-to-know-8/
LOCATION:Park Place Towers-PPT Activity Room
CATEGORIES:The Park Place Towers Activities
END:VEVENT
BEGIN:VEVENT
DTSTART;TZID=America/Chicago:20250414T100000
DTEND;TZID=America/Chicago:20250414T110000
DTSTAMP:20260424T050145
CREATED:20250315T191137Z
LAST-MODIFIED:20250413T205338Z
UID:168054-1744624800-1744628400@myparkcentral.org
SUMMARY:Crossword Puzzles
DESCRIPTION:
URL:https://myparkcentral.org/event/crossword-puzzles-59/
LOCATION:Park Place Towers-PPT Activity Room
CATEGORIES:The Park Place Towers Activities
ORGANIZER;CN="vnewkirk@bcsama.org":MAILTO:vnewkirk@bcsama.org
END:VEVENT
BEGIN:VEVENT
DTSTART;TZID=America/Chicago:20250410T100000
DTEND;TZID=America/Chicago:20250410T110000
DTSTAMP:20260424T050145
CREATED:20250311T191203Z
LAST-MODIFIED:20250409T203915Z
UID:167810-1744279200-1744282800@myparkcentral.org
SUMMARY:Words in Words Game
DESCRIPTION:
URL:https://myparkcentral.org/event/words-in-words-game-22/
LOCATION:Park Place Towers-PPT Activity Room
CATEGORIES:The Park Place Towers Activities
END:VEVENT
BEGIN:VEVENT
DTSTART;TZID=America/Chicago:20250408T140000
DTEND;TZID=America/Chicago:20250408T150000
DTSTAMP:20260424T050145
CREATED:20250309T191107Z
LAST-MODIFIED:20250407T202540Z
UID:167679-1744120800-1744124400@myparkcentral.org
SUMMARY:Crafts with Laina
DESCRIPTION:
URL:https://myparkcentral.org/event/crafts-with-laina-26/
LOCATION:Park Place Towers-PPT Activity Room
CATEGORIES:The Park Place Towers Activities
END:VEVENT
BEGIN:VEVENT
DTSTART;TZID=America/Chicago:20250407T100000
DTEND;TZID=America/Chicago:20250407T110000
DTSTAMP:20260424T050145
CREATED:20250308T191122Z
LAST-MODIFIED:20250406T202334Z
UID:167617-1744020000-1744023600@myparkcentral.org
SUMMARY:Crossword Puzzles
DESCRIPTION:
URL:https://myparkcentral.org/event/crossword-puzzles-58/
LOCATION:Park Place Towers-PPT Activity Room
CATEGORIES:The Park Place Towers Activities
ORGANIZER;CN="vnewkirk@bcsama.org":MAILTO:vnewkirk@bcsama.org
END:VEVENT
BEGIN:VEVENT
DTSTART;TZID=America/Chicago:20250403T100000
DTEND;TZID=America/Chicago:20250403T110000
DTSTAMP:20260424T050145
CREATED:20250304T191201Z
LAST-MODIFIED:20250402T200835Z
UID:167386-1743674400-1743678000@myparkcentral.org
SUMMARY:Words in Words Game
DESCRIPTION:
URL:https://myparkcentral.org/event/words-in-words-game-21/
LOCATION:Park Place Towers-PPT Activity Room
CATEGORIES:The Park Place Towers Activities
END:VEVENT
BEGIN:VEVENT
DTSTART;TZID=America/Chicago:20250331T100000
DTEND;TZID=America/Chicago:20250331T110000
DTSTAMP:20260424T050145
CREATED:20250301T191311Z
LAST-MODIFIED:20250330T195411Z
UID:167194-1743415200-1743418800@myparkcentral.org
SUMMARY:Crossword Puzzles
DESCRIPTION:
URL:https://myparkcentral.org/event/crossword-puzzles-57/
LOCATION:Park Place Towers-PPT Activity Room
CATEGORIES:The Park Place Towers Activities
END:VEVENT
BEGIN:VEVENT
DTSTART;TZID=America/Chicago:20250327T100000
DTEND;TZID=America/Chicago:20250327T110000
DTSTAMP:20260424T050145
CREATED:20250225T182656Z
LAST-MODIFIED:20250326T195414Z
UID:166948-1743069600-1743073200@myparkcentral.org
SUMMARY:Words in Words Game
DESCRIPTION:
URL:https://myparkcentral.org/event/words-in-words-game-20/
LOCATION:Park Place Towers-PPT Activity Room
CATEGORIES:The Park Place Towers Activities
END:VEVENT
BEGIN:VEVENT
DTSTART;TZID=America/Chicago:20250324T100000
DTEND;TZID=America/Chicago:20250324T110000
DTSTAMP:20260424T050145
CREATED:20250222T181125Z
LAST-MODIFIED:20250323T193944Z
UID:166755-1742810400-1742814000@myparkcentral.org
SUMMARY:Crossword Puzzles
DESCRIPTION:
URL:https://myparkcentral.org/event/crossword-puzzles-56/
LOCATION:Park Place Towers-PPT Activity Room
CATEGORIES:The Park Place Towers Activities
END:VEVENT
BEGIN:VEVENT
DTSTART;TZID=America/Chicago:20250320T100000
DTEND;TZID=America/Chicago:20250320T110000
DTSTAMP:20260424T050145
CREATED:20250218T181313Z
LAST-MODIFIED:20250319T192610Z
UID:166518-1742464800-1742468400@myparkcentral.org
SUMMARY:Words in Words Game
DESCRIPTION:
URL:https://myparkcentral.org/event/words-in-words-game-19/
LOCATION:Park Place Towers-PPT Activity Room
CATEGORIES:The Park Place Towers Activities
END:VEVENT
BEGIN:VEVENT
DTSTART;TZID=America/Chicago:20250319T130000
DTEND;TZID=America/Chicago:20250319T133000
DTSTAMP:20260424T050145
CREATED:20250217T182337Z
LAST-MODIFIED:20250318T192410Z
UID:166450-1742389200-1742391000@myparkcentral.org
SUMMARY:Need to Know
DESCRIPTION:
URL:https://myparkcentral.org/event/need-to-know-7/
LOCATION:Park Place Towers-PPT Activity Room
CATEGORIES:The Park Place Towers Activities
END:VEVENT
BEGIN:VEVENT
DTSTART;TZID=America/Chicago:20250317T100000
DTEND;TZID=America/Chicago:20250317T110000
DTSTAMP:20260424T050145
CREATED:20250215T175605Z
LAST-MODIFIED:20250316T190839Z
UID:166325-1742205600-1742209200@myparkcentral.org
SUMMARY:Crossword Puzzles
DESCRIPTION:
URL:https://myparkcentral.org/event/crossword-puzzles-55/
LOCATION:Park Place Towers-PPT Activity Room
CATEGORIES:The Park Place Towers Activities
END:VEVENT
BEGIN:VEVENT
DTSTART;TZID=America/Chicago:20250313T100000
DTEND;TZID=America/Chicago:20250313T110000
DTSTAMP:20260424T050145
CREATED:20250211T175705Z
LAST-MODIFIED:20250312T190836Z
UID:166079-1741860000-1741863600@myparkcentral.org
SUMMARY:Words in Words Game
DESCRIPTION:
URL:https://myparkcentral.org/event/words-in-words-game-18/
LOCATION:Park Place Towers-PPT Activity Room
CATEGORIES:The Park Place Towers Activities
END:VEVENT
BEGIN:VEVENT
DTSTART;TZID=America/Chicago:20250311T100000
DTEND;TZID=America/Chicago:20250311T110000
DTSTAMP:20260424T050145
CREATED:20250209T175630Z
LAST-MODIFIED:20250310T191016Z
UID:165948-1741687200-1741690800@myparkcentral.org
SUMMARY:Crafts with Laina
DESCRIPTION:
URL:https://myparkcentral.org/event/crafts-with-laina-25/
LOCATION:Park Place Towers-PPT Activity Room
CATEGORIES:The Park Place Towers Activities
END:VEVENT
BEGIN:VEVENT
DTSTART;TZID=America/Chicago:20250310T100000
DTEND;TZID=America/Chicago:20250310T110000
DTSTAMP:20260424T050145
CREATED:20250208T175633Z
LAST-MODIFIED:20250309T190839Z
UID:165882-1741600800-1741604400@myparkcentral.org
SUMMARY:Crossword Puzzles
DESCRIPTION:
URL:https://myparkcentral.org/event/crossword-puzzles-54/
LOCATION:Park Place Towers-PPT Activity Room
CATEGORIES:The Park Place Towers Activities
END:VEVENT
END:VCALENDAR