BEGIN:VCALENDAR
VERSION:2.0
PRODID:-//My Park Central - ECPv6.15.20//NONSGML v1.0//EN
CALSCALE:GREGORIAN
METHOD:PUBLISH
X-WR-CALNAME:My Park Central
X-ORIGINAL-URL:https://myparkcentral.org
X-WR-CALDESC:Events for My Park Central
REFRESH-INTERVAL;VALUE=DURATION:PT1H
X-Robots-Tag:noindex
X-PUBLISHED-TTL:PT1H
BEGIN:VTIMEZONE
TZID:America/Chicago
BEGIN:DAYLIGHT
TZOFFSETFROM:-0600
TZOFFSETTO:-0500
TZNAME:CDT
DTSTART:20240310T080000
END:DAYLIGHT
BEGIN:STANDARD
TZOFFSETFROM:-0500
TZOFFSETTO:-0600
TZNAME:CST
DTSTART:20241103T070000
END:STANDARD
BEGIN:DAYLIGHT
TZOFFSETFROM:-0600
TZOFFSETTO:-0500
TZNAME:CDT
DTSTART:20250309T080000
END:DAYLIGHT
BEGIN:STANDARD
TZOFFSETFROM:-0500
TZOFFSETTO:-0600
TZNAME:CST
DTSTART:20251102T070000
END:STANDARD
BEGIN:DAYLIGHT
TZOFFSETFROM:-0600
TZOFFSETTO:-0500
TZNAME:CDT
DTSTART:20260308T080000
END:DAYLIGHT
BEGIN:STANDARD
TZOFFSETFROM:-0500
TZOFFSETTO:-0600
TZNAME:CST
DTSTART:20261101T070000
END:STANDARD
END:VTIMEZONE
BEGIN:VEVENT
DTSTART;TZID=America/Chicago:20250612T161500
DTEND;TZID=America/Chicago:20250612T164500
DTSTAMP:20260422T130353
CREATED:20250513T164354Z
LAST-MODIFIED:20250603T175510Z
UID:171821-1749744900-1749746700@myparkcentral.org
SUMMARY:Song Requests
DESCRIPTION:
URL:https://myparkcentral.org/event/song-requests-370/
LOCATION:North
CATEGORIES:The Sycamore Activities
END:VEVENT
BEGIN:VEVENT
DTSTART;TZID=America/Chicago:20250612T140000
DTEND;TZID=America/Chicago:20250612T150000
DTSTAMP:20260422T130353
CREATED:20250513T164353Z
LAST-MODIFIED:20250603T175505Z
UID:171820-1749736800-1749740400@myparkcentral.org
SUMMARY:Bunco
DESCRIPTION:
URL:https://myparkcentral.org/event/bunco-855/
LOCATION:North
CATEGORIES:The Sycamore Activities
END:VEVENT
BEGIN:VEVENT
DTSTART;TZID=America/Chicago:20250612T100000
DTEND;TZID=America/Chicago:20250612T110000
DTSTAMP:20260422T130353
CREATED:20250513T164346Z
LAST-MODIFIED:20250603T175504Z
UID:171818-1749722400-1749726000@myparkcentral.org
SUMMARY:Sip and Chat
DESCRIPTION:
URL:https://myparkcentral.org/event/sip-and-chat-338/
LOCATION:North
CATEGORIES:The Sycamore Activities
END:VEVENT
BEGIN:VEVENT
DTSTART;TZID=America/Chicago:20250611T150000
DTEND;TZID=America/Chicago:20250611T160000
DTSTAMP:20260422T130353
CREATED:20250512T172055Z
LAST-MODIFIED:20250603T175457Z
UID:171757-1749654000-1749657600@myparkcentral.org
SUMMARY:Mind Games
DESCRIPTION:
URL:https://myparkcentral.org/event/mind-games-628/
LOCATION:North
CATEGORIES:The Sycamore Activities
END:VEVENT
BEGIN:VEVENT
DTSTART;TZID=America/Chicago:20250611T150000
DTEND;TZID=America/Chicago:20250611T153000
DTSTAMP:20260422T130353
CREATED:20250512T172149Z
LAST-MODIFIED:20250603T175457Z
UID:171759-1749654000-1749655800@myparkcentral.org
SUMMARY:Move and Groove
DESCRIPTION:
URL:https://myparkcentral.org/event/move-and-groove-631/
LOCATION:North
CATEGORIES:The Sycamore Activities
END:VEVENT
BEGIN:VEVENT
DTSTART;TZID=America/Chicago:20250611T100000
DTEND;TZID=America/Chicago:20250611T110000
DTSTAMP:20260422T130353
CREATED:20250512T172050Z
LAST-MODIFIED:20250603T175455Z
UID:171754-1749636000-1749639600@myparkcentral.org
SUMMARY:Art Works
DESCRIPTION:
URL:https://myparkcentral.org/event/art-works-680/
LOCATION:North
CATEGORIES:The Sycamore Activities
END:VEVENT
BEGIN:VEVENT
DTSTART;TZID=America/Chicago:20250610T190000
DTEND;TZID=America/Chicago:20250610T200000
DTSTAMP:20260422T130353
CREATED:20250512T171946Z
LAST-MODIFIED:20250603T175448Z
UID:171752-1749582000-1749585600@myparkcentral.org
SUMMARY:Staff Lead Recreational Activity
DESCRIPTION:
URL:https://myparkcentral.org/event/staff-lead-recreational-activity-826/
LOCATION:North
CATEGORIES:The Sycamore Activities
END:VEVENT
BEGIN:VEVENT
DTSTART;TZID=America/Chicago:20250610T111500
DTEND;TZID=America/Chicago:20250610T114500
DTSTAMP:20260422T130353
CREATED:20250511T164245Z
LAST-MODIFIED:20250603T175432Z
UID:171687-1749554100-1749555900@myparkcentral.org
SUMMARY:Meal Time Trivia
DESCRIPTION:
URL:https://myparkcentral.org/event/meal-time-trivia-627/
LOCATION:North
CATEGORIES:The Sycamore Activities
END:VEVENT
BEGIN:VEVENT
DTSTART;TZID=America/Chicago:20250610T093000
DTEND;TZID=America/Chicago:20250610T103000
DTSTAMP:20260422T130353
CREATED:20250511T164237Z
LAST-MODIFIED:20250603T175431Z
UID:171684-1749547800-1749551400@myparkcentral.org
SUMMARY:Dominoes
DESCRIPTION:
URL:https://myparkcentral.org/event/dominoes-679/
LOCATION:North
CATEGORIES:The Sycamore Activities
END:VEVENT
BEGIN:VEVENT
DTSTART;TZID=America/Chicago:20250609T154500
DTEND;TZID=America/Chicago:20250609T164500
DTSTAMP:20260422T130353
CREATED:20250510T164256Z
LAST-MODIFIED:20250603T175427Z
UID:171623-1749483900-1749487500@myparkcentral.org
SUMMARY:Crossword Puzzle
DESCRIPTION:
URL:https://myparkcentral.org/event/crossword-puzzle-773/
LOCATION:North
CATEGORIES:The Sycamore Activities
END:VEVENT
BEGIN:VEVENT
DTSTART;TZID=America/Chicago:20250609T143000
DTEND;TZID=America/Chicago:20250609T153000
DTSTAMP:20260422T130353
CREATED:20250510T164255Z
LAST-MODIFIED:20250603T175426Z
UID:171622-1749479400-1749483000@myparkcentral.org
SUMMARY:Bible Study
DESCRIPTION:
URL:https://myparkcentral.org/event/bible-study-1813/
LOCATION:North
CATEGORIES:The Sycamore Activities
END:VEVENT
BEGIN:VEVENT
DTSTART;TZID=America/Chicago:20250609T100000
DTEND;TZID=America/Chicago:20250609T103000
DTSTAMP:20260422T130353
CREATED:20250510T164244Z
LAST-MODIFIED:20250603T175421Z
UID:171618-1749463200-1749465000@myparkcentral.org
SUMMARY:Exercise with Landon
DESCRIPTION:
URL:https://myparkcentral.org/event/exercise-with-landon-627/
LOCATION:North
CATEGORIES:The Sycamore Activities
END:VEVENT
BEGIN:VEVENT
DTSTART;TZID=America/Chicago:20250608T160000
DTEND;TZID=America/Chicago:20250608T163000
DTSTAMP:20260422T130353
CREATED:20250509T164321Z
LAST-MODIFIED:20250603T175419Z
UID:171565-1749398400-1749400200@myparkcentral.org
SUMMARY:Helping Hands
DESCRIPTION:
URL:https://myparkcentral.org/event/helping-hands-669/
LOCATION:North
CATEGORIES:The Sycamore Activities
END:VEVENT
BEGIN:VEVENT
DTSTART;TZID=America/Chicago:20250608T143000
DTEND;TZID=America/Chicago:20250608T153000
DTSTAMP:20260422T130353
CREATED:20250509T164319Z
LAST-MODIFIED:20250603T175415Z
UID:171564-1749393000-1749396600@myparkcentral.org
SUMMARY:Table Games
DESCRIPTION:
URL:https://myparkcentral.org/event/table-games-1014/
LOCATION:North
CATEGORIES:The Sycamore Activities
END:VEVENT
BEGIN:VEVENT
DTSTART;TZID=America/Chicago:20250608T140000
DTEND;TZID=America/Chicago:20250608T143000
DTSTAMP:20260422T130353
CREATED:20250509T164307Z
LAST-MODIFIED:20250603T175414Z
UID:171562-1749391200-1749393000@myparkcentral.org
SUMMARY:Walking
DESCRIPTION:
URL:https://myparkcentral.org/event/walking-335/
LOCATION:North
CATEGORIES:The Sycamore Activities
END:VEVENT
BEGIN:VEVENT
DTSTART;TZID=America/Chicago:20250607T143000
DTEND;TZID=America/Chicago:20250607T160000
DTSTAMP:20260422T130353
CREATED:20250508T164326Z
LAST-MODIFIED:20250603T175412Z
UID:171509-1749306600-1749312000@myparkcentral.org
SUMMARY:Movie and Popcorn
DESCRIPTION:
URL:https://myparkcentral.org/event/movie-and-popcorn-670/
LOCATION:North
CATEGORIES:The Sycamore Activities
END:VEVENT
BEGIN:VEVENT
DTSTART;TZID=America/Chicago:20250607T113000
DTEND;TZID=America/Chicago:20250607T120000
DTSTAMP:20260422T130353
CREATED:20250508T164323Z
LAST-MODIFIED:20250603T175408Z
UID:171508-1749295800-1749297600@myparkcentral.org
SUMMARY:Name that Tune
DESCRIPTION:
URL:https://myparkcentral.org/event/name-that-tune-346/
LOCATION:North
CATEGORIES:The Sycamore Activities
END:VEVENT
BEGIN:VEVENT
DTSTART;TZID=America/Chicago:20250607T103000
DTEND;TZID=America/Chicago:20250607T110000
DTSTAMP:20260422T130353
CREATED:20250508T164320Z
LAST-MODIFIED:20250603T175408Z
UID:171507-1749292200-1749294000@myparkcentral.org
SUMMARY:Table Games
DESCRIPTION:
URL:https://myparkcentral.org/event/table-games-1013/
LOCATION:North
CATEGORIES:The Sycamore Activities
END:VEVENT
BEGIN:VEVENT
DTSTART;TZID=America/Chicago:20250607T093000
DTEND;TZID=America/Chicago:20250607T100000
DTSTAMP:20260422T130353
CREATED:20250508T164318Z
LAST-MODIFIED:20250603T175407Z
UID:171506-1749288600-1749290400@myparkcentral.org
SUMMARY:Morning Exercise
DESCRIPTION:
URL:https://myparkcentral.org/event/morning-exercise-497/
LOCATION:North
CATEGORIES:The Sycamore Activities
END:VEVENT
BEGIN:VEVENT
DTSTART;TZID=America/Chicago:20250606T093000
DTEND;TZID=America/Chicago:20250606T103000
DTSTAMP:20260422T130353
CREATED:20250507T164337Z
LAST-MODIFIED:20250603T175401Z
UID:171439-1749202200-1749205800@myparkcentral.org
SUMMARY:Music Therapy with Diane
DESCRIPTION:
URL:https://myparkcentral.org/event/music-therapy-with-diane-667/
LOCATION:North
CATEGORIES:The Sycamore Activities
END:VEVENT
BEGIN:VEVENT
DTSTART;TZID=America/Chicago:20250605T161500
DTEND;TZID=America/Chicago:20250605T164500
DTSTAMP:20260422T130353
CREATED:20250506T164324Z
LAST-MODIFIED:20250603T175400Z
UID:171371-1749140100-1749141900@myparkcentral.org
SUMMARY:Song Requests
DESCRIPTION:
URL:https://myparkcentral.org/event/song-requests-369/
LOCATION:North
CATEGORIES:The Sycamore Activities
END:VEVENT
BEGIN:VEVENT
DTSTART;TZID=America/Chicago:20250605T140000
DTEND;TZID=America/Chicago:20250605T150000
DTSTAMP:20260422T130353
CREATED:20250506T164323Z
LAST-MODIFIED:20250603T175348Z
UID:171370-1749132000-1749135600@myparkcentral.org
SUMMARY:Bunco
DESCRIPTION:
URL:https://myparkcentral.org/event/bunco-852/
LOCATION:North
CATEGORIES:The Sycamore Activities
END:VEVENT
BEGIN:VEVENT
DTSTART;TZID=America/Chicago:20250605T100000
DTEND;TZID=America/Chicago:20250605T110000
DTSTAMP:20260422T130353
CREATED:20250506T164310Z
LAST-MODIFIED:20250603T175347Z
UID:171368-1749117600-1749121200@myparkcentral.org
SUMMARY:Sip and Chat
DESCRIPTION:
URL:https://myparkcentral.org/event/sip-and-chat-337/
LOCATION:North
CATEGORIES:The Sycamore Activities
END:VEVENT
BEGIN:VEVENT
DTSTART;TZID=America/Chicago:20250604T150000
DTEND;TZID=America/Chicago:20250604T160000
DTSTAMP:20260422T130353
CREATED:20250505T172149Z
LAST-MODIFIED:20250603T175346Z
UID:171308-1749049200-1749052800@myparkcentral.org
SUMMARY:Mind Games
DESCRIPTION:
URL:https://myparkcentral.org/event/mind-games-626/
LOCATION:North
CATEGORIES:The Sycamore Activities
END:VEVENT
BEGIN:VEVENT
DTSTART;TZID=America/Chicago:20250604T150000
DTEND;TZID=America/Chicago:20250604T153000
DTSTAMP:20260422T130353
CREATED:20250505T172304Z
LAST-MODIFIED:20250603T175340Z
UID:171310-1749049200-1749051000@myparkcentral.org
SUMMARY:Move and Groove
DESCRIPTION:
URL:https://myparkcentral.org/event/move-and-groove-629/
LOCATION:North
CATEGORIES:The Sycamore Activities
END:VEVENT
BEGIN:VEVENT
DTSTART;TZID=America/Chicago:20250604T100000
DTEND;TZID=America/Chicago:20250604T110000
DTSTAMP:20260422T130353
CREATED:20250505T172143Z
LAST-MODIFIED:20250603T175338Z
UID:171305-1749031200-1749034800@myparkcentral.org
SUMMARY:Art Works
DESCRIPTION:
URL:https://myparkcentral.org/event/art-works-678/
LOCATION:North
CATEGORIES:The Sycamore Activities
END:VEVENT
BEGIN:VEVENT
DTSTART;TZID=America/Chicago:20250603T190000
DTEND;TZID=America/Chicago:20250603T200000
DTSTAMP:20260422T130353
CREATED:20250505T172043Z
LAST-MODIFIED:20250603T175334Z
UID:171303-1748977200-1748980800@myparkcentral.org
SUMMARY:Staff Lead Recreational Activity
DESCRIPTION:
URL:https://myparkcentral.org/event/staff-lead-recreational-activity-824/
LOCATION:North
CATEGORIES:The Sycamore Activities
END:VEVENT
BEGIN:VEVENT
DTSTART;TZID=America/Chicago:20250603T111500
DTEND;TZID=America/Chicago:20250603T114500
DTSTAMP:20260422T130353
CREATED:20250504T164309Z
LAST-MODIFIED:20250602T175642Z
UID:171241-1748949300-1748951100@myparkcentral.org
SUMMARY:Meal Time Trivia
DESCRIPTION:
URL:https://myparkcentral.org/event/meal-time-trivia-625/
LOCATION:North
CATEGORIES:The Sycamore Activities
END:VEVENT
BEGIN:VEVENT
DTSTART;TZID=America/Chicago:20250603T093000
DTEND;TZID=America/Chicago:20250603T103000
DTSTAMP:20260422T130353
CREATED:20250504T164301Z
LAST-MODIFIED:20250602T175541Z
UID:171238-1748943000-1748946600@myparkcentral.org
SUMMARY:Dominoes
DESCRIPTION:
URL:https://myparkcentral.org/event/dominoes-677/
LOCATION:North
CATEGORIES:The Sycamore Activities
END:VEVENT
BEGIN:VEVENT
DTSTART;TZID=America/Chicago:20250602T154500
DTEND;TZID=America/Chicago:20250602T164500
DTSTAMP:20260422T130353
CREATED:20250503T164306Z
LAST-MODIFIED:20250602T175540Z
UID:171186-1748879100-1748882700@myparkcentral.org
SUMMARY:Crossword Puzzle
DESCRIPTION:
URL:https://myparkcentral.org/event/crossword-puzzle-771/
LOCATION:North
CATEGORIES:The Sycamore Activities
END:VEVENT
END:VCALENDAR