BEGIN:VCALENDAR
VERSION:2.0
PRODID:-//My Park Central - ECPv6.15.20//NONSGML v1.0//EN
CALSCALE:GREGORIAN
METHOD:PUBLISH
X-WR-CALNAME:My Park Central
X-ORIGINAL-URL:https://myparkcentral.org
X-WR-CALDESC:Events for My Park Central
REFRESH-INTERVAL;VALUE=DURATION:PT1H
X-Robots-Tag:noindex
X-PUBLISHED-TTL:PT1H
BEGIN:VTIMEZONE
TZID:America/Chicago
BEGIN:DAYLIGHT
TZOFFSETFROM:-0600
TZOFFSETTO:-0500
TZNAME:CDT
DTSTART:20210314T080000
END:DAYLIGHT
BEGIN:STANDARD
TZOFFSETFROM:-0500
TZOFFSETTO:-0600
TZNAME:CST
DTSTART:20211107T070000
END:STANDARD
BEGIN:DAYLIGHT
TZOFFSETFROM:-0600
TZOFFSETTO:-0500
TZNAME:CDT
DTSTART:20220313T080000
END:DAYLIGHT
BEGIN:STANDARD
TZOFFSETFROM:-0500
TZOFFSETTO:-0600
TZNAME:CST
DTSTART:20221106T070000
END:STANDARD
BEGIN:DAYLIGHT
TZOFFSETFROM:-0600
TZOFFSETTO:-0500
TZNAME:CDT
DTSTART:20230312T080000
END:DAYLIGHT
BEGIN:STANDARD
TZOFFSETFROM:-0500
TZOFFSETTO:-0600
TZNAME:CST
DTSTART:20231105T070000
END:STANDARD
BEGIN:DAYLIGHT
TZOFFSETFROM:-0600
TZOFFSETTO:-0500
TZNAME:CDT
DTSTART:20240310T080000
END:DAYLIGHT
BEGIN:STANDARD
TZOFFSETFROM:-0500
TZOFFSETTO:-0600
TZNAME:CST
DTSTART:20241103T070000
END:STANDARD
END:VTIMEZONE
BEGIN:VEVENT
DTSTART;TZID=America/Chicago:20230207T134500
DTEND;TZID=America/Chicago:20230207T143000
DTSTAMP:20260424T124507
CREATED:20230108T182020Z
LAST-MODIFIED:20230110T182131Z
UID:116261-1675777500-1675780200@myparkcentral.org
SUMMARY:Bell Choir
DESCRIPTION:
URL:https://myparkcentral.org/event/bell-choir-937/
LOCATION:N/D. Rm.
CATEGORIES:The Ware Activities for NE/NW
END:VEVENT
BEGIN:VEVENT
DTSTART;TZID=America/Chicago:20230131T134500
DTEND;TZID=America/Chicago:20230131T143000
DTSTAMP:20260424T124507
CREATED:20230101T182423Z
LAST-MODIFIED:20230110T182121Z
UID:115796-1675172700-1675175400@myparkcentral.org
SUMMARY:Bell Choir
DESCRIPTION:
URL:https://myparkcentral.org/event/bell-choir-936/
LOCATION:N/D. Rm.
CATEGORIES:The Ware Activities for NE/NW
END:VEVENT
BEGIN:VEVENT
DTSTART;TZID=America/Chicago:20230124T134500
DTEND;TZID=America/Chicago:20230124T143000
DTSTAMP:20260424T124507
CREATED:20221225T181015Z
LAST-MODIFIED:20230110T182110Z
UID:115296-1674567900-1674570600@myparkcentral.org
SUMMARY:Bell Choir
DESCRIPTION:
URL:https://myparkcentral.org/event/bell-choir-933/
LOCATION:N/D. Rm.
CATEGORIES:The Ware Activities for NE/NW
END:VEVENT
BEGIN:VEVENT
DTSTART;TZID=America/Chicago:20230117T134500
DTEND;TZID=America/Chicago:20230117T143000
DTSTAMP:20260424T124507
CREATED:20221221T182123Z
LAST-MODIFIED:20230110T182043Z
UID:114798-1673963100-1673965800@myparkcentral.org
SUMMARY:Bell Choir
DESCRIPTION:
URL:https://myparkcentral.org/event/bell-choir-928/
LOCATION:N/D. Rm.
CATEGORIES:The Ware Activities for NE/NW
END:VEVENT
BEGIN:VEVENT
DTSTART;TZID=America/Chicago:20230110T134500
DTEND;TZID=America/Chicago:20230110T143000
DTSTAMP:20260424T124507
CREATED:20221211T175442Z
LAST-MODIFIED:20230110T182029Z
UID:114435-1673358300-1673361000@myparkcentral.org
SUMMARY:Bell Choir
DESCRIPTION:
URL:https://myparkcentral.org/event/bell-choir-927/
LOCATION:N/D. Rm.
CATEGORIES:The Ware Activities for NE/NW
END:VEVENT
BEGIN:VEVENT
DTSTART;TZID=America/Chicago:20230103T134500
DTEND;TZID=America/Chicago:20230103T143000
DTSTAMP:20260424T124507
CREATED:20221204T175108Z
LAST-MODIFIED:20230103T182716Z
UID:113913-1672753500-1672756200@myparkcentral.org
SUMMARY:Bell Choir
DESCRIPTION:
URL:https://myparkcentral.org/event/bell-choir-924/
LOCATION:N/D. Rm.
CATEGORIES:The Ware Activities for NE/NW
END:VEVENT
BEGIN:VEVENT
DTSTART;TZID=America/Chicago:20221227T134500
DTEND;TZID=America/Chicago:20221227T143000
DTSTAMP:20260424T124507
CREATED:20221127T173849Z
LAST-MODIFIED:20221227T182146Z
UID:113442-1672148700-1672151400@myparkcentral.org
SUMMARY:Bell Choir
DESCRIPTION:
URL:https://myparkcentral.org/event/bell-choir-921/
LOCATION:N/D. Rm.
CATEGORIES:The Ware Activities for NE/NW
END:VEVENT
BEGIN:VEVENT
DTSTART;TZID=America/Chicago:20221220T134500
DTEND;TZID=America/Chicago:20221220T143000
DTSTAMP:20260424T124507
CREATED:20221120T172139Z
LAST-MODIFIED:20221213T175341Z
UID:112950-1671543900-1671546600@myparkcentral.org
SUMMARY:Bell Choir
DESCRIPTION:
URL:https://myparkcentral.org/event/bell-choir-918/
LOCATION:N/D. Rm.
CATEGORIES:The Ware Activities for NE/NW
END:VEVENT
BEGIN:VEVENT
DTSTART;TZID=America/Chicago:20221213T134500
DTEND;TZID=America/Chicago:20221213T143000
DTSTAMP:20260424T124507
CREATED:20221113T170504Z
LAST-MODIFIED:20221213T175313Z
UID:112441-1670939100-1670941800@myparkcentral.org
SUMMARY:Bell Choir
DESCRIPTION:
URL:https://myparkcentral.org/event/bell-choir-915/
LOCATION:N/D. Rm.
CATEGORIES:The Ware Activities for NE/NW
END:VEVENT
BEGIN:VEVENT
DTSTART;TZID=America/Chicago:20221206T134500
DTEND;TZID=America/Chicago:20221206T143000
DTSTAMP:20260424T124507
CREATED:20221106T165125Z
LAST-MODIFIED:20221206T175130Z
UID:111903-1670334300-1670337000@myparkcentral.org
SUMMARY:Bell Choir
DESCRIPTION:
URL:https://myparkcentral.org/event/bell-choir-912/
LOCATION:N/D. Rm.
CATEGORIES:The Ware Activities for NE/NW
END:VEVENT
BEGIN:VEVENT
DTSTART;TZID=America/Chicago:20221129T134500
DTEND;TZID=America/Chicago:20221129T143000
DTSTAMP:20260424T124507
CREATED:20221101T163735Z
LAST-MODIFIED:20221129T175633Z
UID:111459-1669729500-1669732200@myparkcentral.org
SUMMARY:Bell Choir
DESCRIPTION:
URL:https://myparkcentral.org/event/bell-choir-909/
LOCATION:N/D. Rm.
CATEGORIES:The Ware Activities for NE/NW
END:VEVENT
BEGIN:VEVENT
DTSTART;TZID=America/Chicago:20221122T134500
DTEND;TZID=America/Chicago:20221122T143000
DTSTAMP:20260424T124507
CREATED:20221023T155429Z
LAST-MODIFIED:20221122T172225Z
UID:110851-1669124700-1669127400@myparkcentral.org
SUMMARY:Bell Choir
DESCRIPTION:
URL:https://myparkcentral.org/event/bell-choir-906/
LOCATION:N/D. Rm.
CATEGORIES:The Ware Activities for NE/NW
END:VEVENT
BEGIN:VEVENT
DTSTART;TZID=America/Chicago:20221115T134500
DTEND;TZID=America/Chicago:20221115T143000
DTSTAMP:20260424T124507
CREATED:20221016T150625Z
LAST-MODIFIED:20221115T170600Z
UID:110261-1668519900-1668522600@myparkcentral.org
SUMMARY:Bell Choir
DESCRIPTION:
URL:https://myparkcentral.org/event/bell-choir-903/
LOCATION:N/D. Rm.
CATEGORIES:The Ware Activities for NE/NW
END:VEVENT
BEGIN:VEVENT
DTSTART;TZID=America/Chicago:20221108T134500
DTEND;TZID=America/Chicago:20221108T143000
DTSTAMP:20260424T124507
CREATED:20221009T150513Z
LAST-MODIFIED:20221108T165333Z
UID:109742-1667915100-1667917800@myparkcentral.org
SUMMARY:Bell Choir
DESCRIPTION:
URL:https://myparkcentral.org/event/bell-choir-900/
LOCATION:N/D. Rm.
CATEGORIES:The Ware Activities for NE/NW
END:VEVENT
BEGIN:VEVENT
DTSTART;TZID=America/Chicago:20221101T134500
DTEND;TZID=America/Chicago:20221101T143000
DTSTAMP:20260424T124507
CREATED:20221002T150513Z
LAST-MODIFIED:20221101T163638Z
UID:109230-1667310300-1667313000@myparkcentral.org
SUMMARY:Bell Choir
DESCRIPTION:
URL:https://myparkcentral.org/event/bell-choir-897/
LOCATION:N/D. Rm.
CATEGORIES:The Ware Activities for NE/NW
END:VEVENT
BEGIN:VEVENT
DTSTART;TZID=America/Chicago:20221025T134500
DTEND;TZID=America/Chicago:20221025T143000
DTSTAMP:20260424T124507
CREATED:20220929T150736Z
LAST-MODIFIED:20220929T150736Z
UID:108357-1666705500-1666708200@myparkcentral.org
SUMMARY:Bell Choir
DESCRIPTION:
URL:https://myparkcentral.org/event/bell-choir-894/
LOCATION:N/D. Rm.
CATEGORIES:The Ware Activities for NE/NW
END:VEVENT
BEGIN:VEVENT
DTSTART;TZID=America/Chicago:20221025T134500
DTEND;TZID=America/Chicago:20221025T143000
DTSTAMP:20260424T124507
CREATED:20220928T150608Z
LAST-MODIFIED:20220928T150608Z
UID:107592-1666705500-1666708200@myparkcentral.org
SUMMARY:Bell Choir
DESCRIPTION:
URL:https://myparkcentral.org/event/bell-choir-882/
LOCATION:N/D. Rm.
CATEGORIES:The Ware Activities for NE/NW
END:VEVENT
BEGIN:VEVENT
DTSTART;TZID=America/Chicago:20221025T134500
DTEND;TZID=America/Chicago:20221025T143000
DTSTAMP:20260424T124507
CREATED:20220927T150736Z
LAST-MODIFIED:20220927T150736Z
UID:106808-1666705500-1666708200@myparkcentral.org
SUMMARY:Bell Choir
DESCRIPTION:
URL:https://myparkcentral.org/event/bell-choir-870/
LOCATION:N/D. Rm.
CATEGORIES:The Ware Activities for NE/NW
END:VEVENT
BEGIN:VEVENT
DTSTART;TZID=America/Chicago:20221025T134500
DTEND;TZID=America/Chicago:20221025T143000
DTSTAMP:20260424T124507
CREATED:20220926T150643Z
LAST-MODIFIED:20220926T150643Z
UID:106028-1666705500-1666708200@myparkcentral.org
SUMMARY:Bell Choir
DESCRIPTION:
URL:https://myparkcentral.org/event/bell-choir-855/
LOCATION:N/D. Rm.
CATEGORIES:The Ware Activities for NE/NW
END:VEVENT
BEGIN:VEVENT
DTSTART;TZID=America/Chicago:20221025T134500
DTEND;TZID=America/Chicago:20221025T143000
DTSTAMP:20260424T124507
CREATED:20220925T151111Z
LAST-MODIFIED:20221025T155139Z
UID:105465-1666705500-1666708200@myparkcentral.org
SUMMARY:Bell Choir
DESCRIPTION:
URL:https://myparkcentral.org/event/bell-choir-840/
LOCATION:N/D. Rm.
CATEGORIES:The Ware Activities for NE/NW
END:VEVENT
BEGIN:VEVENT
DTSTART;TZID=America/Chicago:20221018T134500
DTEND;TZID=America/Chicago:20221018T143000
DTSTAMP:20260424T124507
CREATED:20220929T150713Z
LAST-MODIFIED:20220929T150713Z
UID:108342-1666100700-1666103400@myparkcentral.org
SUMMARY:Bell Choir
DESCRIPTION:
URL:https://myparkcentral.org/event/bell-choir-893/
LOCATION:N/D. Rm.
CATEGORIES:The Ware Activities for NE/NW
END:VEVENT
BEGIN:VEVENT
DTSTART;TZID=America/Chicago:20221018T134500
DTEND;TZID=America/Chicago:20221018T143000
DTSTAMP:20260424T124507
CREATED:20220928T150547Z
LAST-MODIFIED:20220928T150547Z
UID:107577-1666100700-1666103400@myparkcentral.org
SUMMARY:Bell Choir
DESCRIPTION:
URL:https://myparkcentral.org/event/bell-choir-881/
LOCATION:N/D. Rm.
CATEGORIES:The Ware Activities for NE/NW
END:VEVENT
BEGIN:VEVENT
DTSTART;TZID=America/Chicago:20221018T134500
DTEND;TZID=America/Chicago:20221018T143000
DTSTAMP:20260424T124507
CREATED:20220927T150724Z
LAST-MODIFIED:20220927T150724Z
UID:106793-1666100700-1666103400@myparkcentral.org
SUMMARY:Bell Choir
DESCRIPTION:
URL:https://myparkcentral.org/event/bell-choir-869/
LOCATION:N/D. Rm.
CATEGORIES:The Ware Activities for NE/NW
END:VEVENT
BEGIN:VEVENT
DTSTART;TZID=America/Chicago:20221018T134500
DTEND;TZID=America/Chicago:20221018T143000
DTSTAMP:20260424T124507
CREATED:20220926T150624Z
LAST-MODIFIED:20220926T150624Z
UID:106013-1666100700-1666103400@myparkcentral.org
SUMMARY:Bell Choir
DESCRIPTION:
URL:https://myparkcentral.org/event/bell-choir-854/
LOCATION:N/D. Rm.
CATEGORIES:The Ware Activities for NE/NW
END:VEVENT
BEGIN:VEVENT
DTSTART;TZID=America/Chicago:20221018T134500
DTEND;TZID=America/Chicago:20221018T143000
DTSTAMP:20260424T124507
CREATED:20220925T151053Z
LAST-MODIFIED:20220925T151053Z
UID:105450-1666100700-1666103400@myparkcentral.org
SUMMARY:Bell Choir
DESCRIPTION:
URL:https://myparkcentral.org/event/bell-choir-839/
LOCATION:N/D. Rm.
CATEGORIES:The Ware Activities for NE/NW
END:VEVENT
BEGIN:VEVENT
DTSTART;TZID=America/Chicago:20221018T134500
DTEND;TZID=America/Chicago:20221018T143000
DTSTAMP:20260424T124507
CREATED:20220924T150853Z
LAST-MODIFIED:20220924T150853Z
UID:104479-1666100700-1666103400@myparkcentral.org
SUMMARY:Bell Choir
DESCRIPTION:
URL:https://myparkcentral.org/event/bell-choir-825/
LOCATION:N/D. Rm.
CATEGORIES:The Ware Activities for NE/NW
END:VEVENT
BEGIN:VEVENT
DTSTART;TZID=America/Chicago:20221018T134500
DTEND;TZID=America/Chicago:20221018T143000
DTSTAMP:20260424T124507
CREATED:20220923T150936Z
LAST-MODIFIED:20220923T150936Z
UID:103922-1666100700-1666103400@myparkcentral.org
SUMMARY:Bell Choir
DESCRIPTION:
URL:https://myparkcentral.org/event/bell-choir-813/
LOCATION:N/D. Rm.
CATEGORIES:The Ware Activities for NE/NW
END:VEVENT
BEGIN:VEVENT
DTSTART;TZID=America/Chicago:20221018T134500
DTEND;TZID=America/Chicago:20221018T143000
DTSTAMP:20260424T124507
CREATED:20220918T150653Z
LAST-MODIFIED:20221018T151903Z
UID:103083-1666100700-1666103400@myparkcentral.org
SUMMARY:Bell Choir
DESCRIPTION:
URL:https://myparkcentral.org/event/bell-choir-801/
LOCATION:N/D. Rm.
CATEGORIES:The Ware Activities for NE/NW
END:VEVENT
BEGIN:VEVENT
DTSTART;TZID=America/Chicago:20221011T134500
DTEND;TZID=America/Chicago:20221011T143000
DTSTAMP:20260424T124507
CREATED:20220929T150656Z
LAST-MODIFIED:20220929T150656Z
UID:108326-1665495900-1665498600@myparkcentral.org
SUMMARY:Bell Choir
DESCRIPTION:
URL:https://myparkcentral.org/event/bell-choir-892/
LOCATION:N/D. Rm.
CATEGORIES:The Ware Activities for NE/NW
END:VEVENT
BEGIN:VEVENT
DTSTART;TZID=America/Chicago:20221011T134500
DTEND;TZID=America/Chicago:20221011T143000
DTSTAMP:20260424T124507
CREATED:20220928T150519Z
LAST-MODIFIED:20220928T150519Z
UID:107561-1665495900-1665498600@myparkcentral.org
SUMMARY:Bell Choir
DESCRIPTION:
URL:https://myparkcentral.org/event/bell-choir-880/
LOCATION:N/D. Rm.
CATEGORIES:The Ware Activities for NE/NW
END:VEVENT
END:VCALENDAR